BEGIN:VCALENDAR
VERSION:2.0
PRODID:-//Florence County Museum - ECPv6.15.20//NONSGML v1.0//EN
CALSCALE:GREGORIAN
METHOD:PUBLISH
X-WR-CALNAME:Florence County Museum
X-ORIGINAL-URL:https://www.flocomuseum.org
X-WR-CALDESC:Events for Florence County Museum
REFRESH-INTERVAL;VALUE=DURATION:PT1H
X-Robots-Tag:noindex
X-PUBLISHED-TTL:PT1H
BEGIN:VTIMEZONE
TZID:America/New_York
BEGIN:DAYLIGHT
TZOFFSETFROM:-0500
TZOFFSETTO:-0400
TZNAME:EDT
DTSTART:20240310T070000
END:DAYLIGHT
BEGIN:STANDARD
TZOFFSETFROM:-0400
TZOFFSETTO:-0500
TZNAME:EST
DTSTART:20241103T060000
END:STANDARD
BEGIN:DAYLIGHT
TZOFFSETFROM:-0500
TZOFFSETTO:-0400
TZNAME:EDT
DTSTART:20250309T070000
END:DAYLIGHT
BEGIN:STANDARD
TZOFFSETFROM:-0400
TZOFFSETTO:-0500
TZNAME:EST
DTSTART:20251102T060000
END:STANDARD
BEGIN:DAYLIGHT
TZOFFSETFROM:-0500
TZOFFSETTO:-0400
TZNAME:EDT
DTSTART:20260308T070000
END:DAYLIGHT
BEGIN:STANDARD
TZOFFSETFROM:-0400
TZOFFSETTO:-0500
TZNAME:EST
DTSTART:20261101T060000
END:STANDARD
END:VTIMEZONE
BEGIN:VEVENT
DTSTART;TZID=America/New_York:20250614T110000
DTEND;TZID=America/New_York:20250614T140000
DTSTAMP:20260421T123913
CREATED:20250604T182105Z
LAST-MODIFIED:20250604T193931Z
UID:32861-1749898800-1749909600@www.flocomuseum.org
SUMMARY:Plant Sale - Summer 2025
DESCRIPTION:[vc_row type=”in_container” full_screen_row_position=”middle” column_margin=”default” column_direction=”default” column_direction_tablet=”default” column_direction_phone=”default” scene_position=”center” text_color=”dark” text_align=”left” row_border_radius=”none” row_border_radius_applies=”bg” overflow=”visible” overlay_strength=”0.3″ gradient_direction=”left_to_right” shape_divider_position=”bottom” bg_image_animation=”none”][vc_column column_padding=”no-extra-padding” column_padding_tablet=”inherit” column_padding_phone=”inherit” column_padding_position=”all” column_element_direction_desktop=”default” column_element_spacing=”default” desktop_text_alignment=”default” tablet_text_alignment=”default” phone_text_alignment=”default” background_color_opacity=”1″ background_hover_color_opacity=”1″ column_backdrop_filter=”none” column_shadow=”none” column_border_radius=”none” column_link_target=”_self” column_position=”default” gradient_direction=”left_to_right” overlay_strength=”0.3″ width=”1/1″ tablet_width_inherit=”default” animation_type=”default” bg_image_animation=”none” border_type=”simple” column_border_width=”none” column_border_style=”solid”][vc_column_text css=”” text_direction=”default”]Join us Sat.\, 6/14\, from 11 am to 2 pm for a Summer Plant Sale. We will have a tent set up in the museum courtyard with a selection of plants provided by Healy Horticulure for the public to purchase. The plant selection will feature rare and unique examples\, some of which are represented in our sensory garden and courtyard plantings. All sale proceeds will benefit the newly organized Pee Dee Botanical Garden. [/vc_column_text][divider line_type=”No Line”][vc_column_text css=”” text_direction=”default”]\nList of Available Plants\nDahlia x ‘Watercolor Mix’\nDahlia x ‘Bishop’s Children’\nCanna x generalis ‘Bengal Tiger’\nLysimachia lanceolata ‘Burgundy Mist’\nHosta x ‘Patriot’\nHosta x ‘Frances Williams’\nHosta x ‘Royal Standard’\nHosta plantaginea\nAjuga reptans ‘Noble Nightingale’\nAjuga x ‘Tropical Toucan’\nSambucus canadensis ‘Blonde Envy’\nMonarda didyma\nMonarda punctata ‘Beebop’\nHemerocallis x ‘Autumn Blaze’\nHemerocallis x ‘Buttered Popcorn’\nEupatorium rugosum ‘Chocolate’\nKniphofia uvaria ‘Flamenco Mix’\nSalvia farinacea ‘Henry Duelberg’\nSalvia splendens ‘Faye Chapel'[/vc_column_text][/vc_column][/vc_row]
URL:https://www.flocomuseum.org/event/summer-plant-sale/
LOCATION:Florence County Museum\, 111 West Cheves Street\, Florence\, SC 29501\, Florence\, SC\, 29501\, United States
CATEGORIES:Free Event,Pop-up
ATTACH;FMTTYPE=image/jpeg:https://www.flocomuseum.org/wp-content/uploads/2025/06/Plant-Sale-2-061425.jpg
END:VEVENT
END:VCALENDAR