BEGIN:VCALENDAR
VERSION:2.0
PRODID:-//Florence County Museum - ECPv6.15.20//NONSGML v1.0//EN
CALSCALE:GREGORIAN
METHOD:PUBLISH
X-ORIGINAL-URL:https://www.flocomuseum.org
X-WR-CALDESC:Events for Florence County Museum
REFRESH-INTERVAL;VALUE=DURATION:PT1H
X-Robots-Tag:noindex
X-PUBLISHED-TTL:PT1H
BEGIN:VTIMEZONE
TZID:America/New_York
BEGIN:DAYLIGHT
TZOFFSETFROM:-0500
TZOFFSETTO:-0400
TZNAME:EDT
DTSTART:20250309T070000
END:DAYLIGHT
BEGIN:STANDARD
TZOFFSETFROM:-0400
TZOFFSETTO:-0500
TZNAME:EST
DTSTART:20251102T060000
END:STANDARD
BEGIN:DAYLIGHT
TZOFFSETFROM:-0500
TZOFFSETTO:-0400
TZNAME:EDT
DTSTART:20260308T070000
END:DAYLIGHT
BEGIN:STANDARD
TZOFFSETFROM:-0400
TZOFFSETTO:-0500
TZNAME:EST
DTSTART:20261101T060000
END:STANDARD
BEGIN:DAYLIGHT
TZOFFSETFROM:-0500
TZOFFSETTO:-0400
TZNAME:EDT
DTSTART:20270314T070000
END:DAYLIGHT
BEGIN:STANDARD
TZOFFSETFROM:-0400
TZOFFSETTO:-0500
TZNAME:EST
DTSTART:20271107T060000
END:STANDARD
BEGIN:DAYLIGHT
TZOFFSETFROM:-0500
TZOFFSETTO:-0400
TZNAME:EDT
DTSTART:20280312T070000
END:DAYLIGHT
BEGIN:STANDARD
TZOFFSETFROM:-0400
TZOFFSETTO:-0500
TZNAME:EST
DTSTART:20281105T060000
END:STANDARD
END:VTIMEZONE
BEGIN:VEVENT
DTSTART;TZID=America/New_York:20260711T130000
DTEND;TZID=America/New_York:20260711T150000
DTSTAMP:20260425T103937
CREATED:20260225T161359Z
LAST-MODIFIED:20260226T150138Z
UID:33791-1783774800-1783782000@www.flocomuseum.org
SUMMARY:Family Day - America's 250th Birthday
DESCRIPTION:[vc_row type=”in_container” full_screen_row_position=”middle” column_margin=”default” column_direction=”default” column_direction_tablet=”default” column_direction_phone=”default” scene_position=”center” text_color=”dark” text_align=”left” row_border_radius=”none” row_border_radius_applies=”bg” overflow=”visible” overlay_strength=”0.3″ gradient_direction=”left_to_right” shape_divider_position=”bottom” bg_image_animation=”none”][vc_column column_padding=”no-extra-padding” column_padding_tablet=”inherit” column_padding_phone=”inherit” column_padding_position=”all” column_element_direction_desktop=”default” column_element_spacing=”default” desktop_text_alignment=”default” tablet_text_alignment=”default” phone_text_alignment=”default” background_color_opacity=”1″ background_hover_color_opacity=”1″ column_backdrop_filter=”none” column_shadow=”none” column_border_radius=”none” column_link_target=”_self” column_position=”default” gradient_direction=”left_to_right” overlay_strength=”0.3″ width=”1/1″ tablet_width_inherit=”default” animation_type=”default” bg_image_animation=”none” border_type=”simple” column_border_width=”none” column_border_style=”solid”][divider line_type=”No Line” custom_height=”20px”][vc_column_text css=”” text_direction=”default”]\n\nJoin us on Saturday\, 7/11\, from 1pm to 3pm for Family Day – America’s 250th Birthday. Let’s celebrate our country’s semiquincentennial in bright\, bold colors and create your own “fireworks” using scratch art techniques. You’ll learn about notable South Carolinians like Francis Marion (The Swamp Fox)\, Thomas Sumter (The Fighting Gamecock)\, & Andrew Pickens (The Wizard Owl) and make masks inspired by these historic figures who were instrumental in the American Revolution of 1776. \nThe event is free (no registration required). \n\n[/vc_column_text][/vc_column][/vc_row]
URL:https://www.flocomuseum.org/event/family-day-americas-250th-birthday/
LOCATION:Florence County Museum\, 111 West Cheves Street\, Florence\, SC 29501\, Florence\, SC\, 29501\, United States
CATEGORIES:Family,Family Day at FCM,Free Event,Kids Programs
ATTACH;FMTTYPE=image/jpeg:https://www.flocomuseum.org/wp-content/uploads/2026/02/Family-Day-5.jpg
ORGANIZER;CN="Uschi Jeffcoat%2C Curator of Education":MAILTO:ujeffcoat@florenceco.org
END:VEVENT
BEGIN:VEVENT
DTSTART;TZID=America/New_York:20260808T130000
DTEND;TZID=America/New_York:20260808T150000
DTSTAMP:20260425T103937
CREATED:20260226T151145Z
LAST-MODIFIED:20260226T151145Z
UID:33825-1786194000-1786201200@www.flocomuseum.org
SUMMARY:Family Day - Watercolor Batiks
DESCRIPTION:[vc_row type=”in_container” full_screen_row_position=”middle” column_margin=”default” column_direction=”default” column_direction_tablet=”default” column_direction_phone=”default” scene_position=”center” text_color=”dark” text_align=”left” row_border_radius=”none” row_border_radius_applies=”bg” overflow=”visible” overlay_strength=”0.3″ gradient_direction=”left_to_right” shape_divider_position=”bottom” bg_image_animation=”none”][vc_column column_padding=”no-extra-padding” column_padding_tablet=”inherit” column_padding_phone=”inherit” column_padding_position=”all” column_element_direction_desktop=”default” column_element_spacing=”default” desktop_text_alignment=”default” tablet_text_alignment=”default” phone_text_alignment=”default” background_color_opacity=”1″ background_hover_color_opacity=”1″ column_backdrop_filter=”none” column_shadow=”none” column_border_radius=”none” column_link_target=”_self” column_position=”default” gradient_direction=”left_to_right” overlay_strength=”0.3″ width=”1/1″ tablet_width_inherit=”default” animation_type=”default” bg_image_animation=”none” border_type=”simple” column_border_width=”none” column_border_style=”solid”][divider line_type=”No Line” custom_height=”20px”][vc_column_text css=”” text_direction=”default”]\n\nJoin us on Saturday\, 8/8\, from 1pm to 3pm for Family Day – Beautiful Watercolor Batiks: Experiment with wax-resist techniques to reveal bold textures and vibrant contrasts. Create a paper batik design of your own\, capturing summer memories using patterns\, bold lines\, and symbols to tell your own story.  Batik is a traditional African textile process that uses wax and dyes to create resist patterns. \nThe event is free (no registration required). \n\n[/vc_column_text][/vc_column][/vc_row]
URL:https://www.flocomuseum.org/event/family-day-watercolor-batiks-080826/
LOCATION:Florence County Museum\, 111 West Cheves Street\, Florence\, SC 29501\, Florence\, SC\, 29501\, United States
CATEGORIES:Family,Family Day at FCM,Kids Programs
ATTACH;FMTTYPE=image/jpeg:https://www.flocomuseum.org/wp-content/uploads/2018/08/Family-Day-Back-to-School-Bash-Press_FCM6113.jpg
ORGANIZER;CN="Uschi Jeffcoat%2C Curator of Education":MAILTO:ujeffcoat@florenceco.org
END:VEVENT
BEGIN:VEVENT
DTSTART;TZID=America/New_York:20260912T130000
DTEND;TZID=America/New_York:20260912T150000
DTSTAMP:20260425T103937
CREATED:20260226T152545Z
LAST-MODIFIED:20260226T153356Z
UID:33827-1789218000-1789225200@www.flocomuseum.org
SUMMARY:Family Day - Ice Age Giants
DESCRIPTION:[vc_row type=”in_container” full_screen_row_position=”middle” column_margin=”default” column_direction=”default” column_direction_tablet=”default” column_direction_phone=”default” scene_position=”center” text_color=”dark” text_align=”left” row_border_radius=”none” row_border_radius_applies=”bg” overflow=”visible” overlay_strength=”0.3″ gradient_direction=”left_to_right” shape_divider_position=”bottom” bg_image_animation=”none”][vc_column column_padding=”no-extra-padding” column_padding_tablet=”inherit” column_padding_phone=”inherit” column_padding_position=”all” column_element_direction_desktop=”default” column_element_spacing=”default” desktop_text_alignment=”default” tablet_text_alignment=”default” phone_text_alignment=”default” background_color_opacity=”1″ background_hover_color_opacity=”1″ column_backdrop_filter=”none” column_shadow=”none” column_border_radius=”none” column_link_target=”_self” column_position=”default” gradient_direction=”left_to_right” overlay_strength=”0.3″ width=”1/1″ tablet_width_inherit=”default” animation_type=”default” bg_image_animation=”none” border_type=”simple” column_border_width=”none” column_border_style=”solid”][divider line_type=”No Line” custom_height=”20px”][vc_column_text css=”” text_direction=”default”]\n\nJoin us on Saturday\, 9/12\, from 1pm to 3pm for Family Day – Ice Age Giants. Step back in time and discover the giants of the Ice Age of the Pee Dee. You’ll learn how the glyptodont was a prehistoric ancestor of the armadillo.  You’ll create your own prehistoric glyptodont shell while learning about shapes and patterns. Learn about colors as we identify various large\, prehistoric land animals\, aka megafauna\, from the Ice Age. Stop by and become a junior paleontologist! \nThe event is free (no registration required). \n\n[/vc_column_text][/vc_column][/vc_row]
URL:https://www.flocomuseum.org/event/family-day-ice-age-giants-091226/
LOCATION:Florence County Museum\, 111 West Cheves Street\, Florence\, SC 29501\, Florence\, SC\, 29501\, United States
CATEGORIES:Family,Family Day at FCM,Kids Programs
ATTACH;FMTTYPE=image/jpeg:https://www.flocomuseum.org/wp-content/uploads/2024/09/Family-Day-2-1000x500-1.jpg
ORGANIZER;CN="Uschi Jeffcoat%2C Curator of Education":MAILTO:ujeffcoat@florenceco.org
END:VEVENT
BEGIN:VEVENT
DTSTART;TZID=America/New_York:20261114T130000
DTEND;TZID=America/New_York:20261114T150000
DTSTAMP:20260425T103937
CREATED:20260226T161224Z
LAST-MODIFIED:20260226T161921Z
UID:33834-1794661200-1794668400@www.flocomuseum.org
SUMMARY:Family Day - Fall Leaf Fun
DESCRIPTION:[vc_row type=”in_container” full_screen_row_position=”middle” column_margin=”default” column_direction=”default” column_direction_tablet=”default” column_direction_phone=”default” scene_position=”center” text_color=”dark” text_align=”left” row_border_radius=”none” row_border_radius_applies=”bg” overflow=”visible” overlay_strength=”0.3″ gradient_direction=”left_to_right” shape_divider_position=”bottom” bg_image_animation=”none”][vc_column column_padding=”no-extra-padding” column_padding_tablet=”inherit” column_padding_phone=”inherit” column_padding_position=”all” column_element_direction_desktop=”default” column_element_spacing=”default” desktop_text_alignment=”default” tablet_text_alignment=”default” phone_text_alignment=”default” background_color_opacity=”1″ background_hover_color_opacity=”1″ column_backdrop_filter=”none” column_shadow=”none” column_border_radius=”none” column_link_target=”_self” column_position=”default” gradient_direction=”left_to_right” overlay_strength=”0.3″ width=”1/1″ tablet_width_inherit=”default” animation_type=”default” bg_image_animation=”none” border_type=”simple” column_border_width=”none” column_border_style=”solid”][divider line_type=”No Line” custom_height=”20px”][vc_column_text css=”” text_direction=”default”]\n\nJoin us on Saturday\, 11/14\, from 1pm to 3pm for Family Day – Fall Leaf Fun at the Museum. Celebrate the beauty of autumn landscapes. Turn your handprints into vibrant autumn leaves! Trace\, cut\, and decorate a colorful and personalized fall foliage piece of art to take home. \nThe event is free (no registration required). \n\n[/vc_column_text][/vc_column][/vc_row]
URL:https://www.flocomuseum.org/event/family-day-fall-leaf-fun-111426/
LOCATION:Florence County Museum\, 111 West Cheves Street\, Florence\, SC\, 29501\, United States
CATEGORIES:Family,Family Day at FCM,Kids Programs
ATTACH;FMTTYPE=image/jpeg:https://www.flocomuseum.org/wp-content/uploads/2017/08/Family-Day-Recycle-It-Portfolio_FCM4473.jpg
ORGANIZER;CN="Uschi Jeffcoat%2C Curator of Education":MAILTO:ujeffcoat@florenceco.org
END:VEVENT
BEGIN:VEVENT
DTSTART;TZID=America/New_York:20261212T130000
DTEND;TZID=America/New_York:20261212T150000
DTSTAMP:20260425T103937
CREATED:20260226T162937Z
LAST-MODIFIED:20260226T190403Z
UID:33847-1797080400-1797087600@www.flocomuseum.org
SUMMARY:Family Day - Artful Ornaments
DESCRIPTION:[vc_row type=”in_container” full_screen_row_position=”middle” column_margin=”default” column_direction=”default” column_direction_tablet=”default” column_direction_phone=”default” scene_position=”center” text_color=”dark” text_align=”left” row_border_radius=”none” row_border_radius_applies=”bg” overflow=”visible” overlay_strength=”0.3″ gradient_direction=”left_to_right” shape_divider_position=”bottom” bg_image_animation=”none”][vc_column column_padding=”no-extra-padding” column_padding_tablet=”inherit” column_padding_phone=”inherit” column_padding_position=”all” column_element_direction_desktop=”default” column_element_spacing=”default” desktop_text_alignment=”default” tablet_text_alignment=”default” phone_text_alignment=”default” background_color_opacity=”1″ background_hover_color_opacity=”1″ column_backdrop_filter=”none” column_shadow=”none” column_border_radius=”none” column_link_target=”_self” column_position=”default” gradient_direction=”left_to_right” overlay_strength=”0.3″ width=”1/1″ tablet_width_inherit=”default” animation_type=”default” bg_image_animation=”none” border_type=”simple” column_border_width=”none” column_border_style=”solid”][divider line_type=”No Line” custom_height=”20px”][vc_column_text css=”” text_direction=”default”]\n\nJoin us on Saturday\, 12/12\, from 1pm to 3pm for Family Day – Artful Ornaments. Celebrate the season by making meaningful\, handmade gifts inspired by art\, history\, and the Pee Dee. \n\n[/vc_column_text][/vc_column][/vc_row]
URL:https://www.flocomuseum.org/event/family-day-artful-ornaments-121226/
LOCATION:Florence County Museum\, 111 West Cheves Street\, Florence\, SC 29501\, Florence\, SC\, 29501\, United States
CATEGORIES:Family,Family Day at FCM,Kids Programs
ATTACH;FMTTYPE=image/jpeg:https://www.flocomuseum.org/wp-content/uploads/2026/02/Family-Day-7.jpg
END:VEVENT
BEGIN:VEVENT
DTSTART;TZID=America/New_York:20270109T130000
DTEND;TZID=America/New_York:20270109T150000
DTSTAMP:20260425T103937
CREATED:20260316T170723Z
LAST-MODIFIED:20260316T170723Z
UID:33974-1799499600-1799506800@www.flocomuseum.org
SUMMARY:Family Day - Science & Snowy Fun
DESCRIPTION:[vc_row type=”in_container” full_screen_row_position=”middle” column_margin=”default” column_direction=”default” column_direction_tablet=”default” column_direction_phone=”default” scene_position=”center” text_color=”dark” text_align=”left” row_border_radius=”none” row_border_radius_applies=”bg” overflow=”visible” overlay_strength=”0.3″ gradient_direction=”left_to_right” shape_divider_position=”bottom” bg_image_animation=”none”][vc_column column_padding=”no-extra-padding” column_padding_tablet=”inherit” column_padding_phone=”inherit” column_padding_position=”all” column_element_direction_desktop=”default” column_element_spacing=”default” desktop_text_alignment=”default” tablet_text_alignment=”default” phone_text_alignment=”default” background_color_opacity=”1″ background_hover_color_opacity=”1″ column_backdrop_filter=”none” column_shadow=”none” column_border_radius=”none” column_link_target=”_self” column_position=”default” gradient_direction=”left_to_right” overlay_strength=”0.3″ width=”1/1″ tablet_width_inherit=”default” animation_type=”default” bg_image_animation=”none” border_type=”simple” column_border_width=”none” column_border_style=”solid”][divider line_type=”No Line” custom_height=”20px”][vc_column_text css=”” text_direction=”default”]\n\nJoin us on Saturday\, 1/9\, from 1:00 – 3:00 pm for Family Day – Winter Science & Snowy Fun. Kick off the new year with a scientific adventure at the museum! Engineer\, create\, and explore the beauty of crystals and snowflakes.  through fun\, interactive stations. \n\nThis event is free & open to the public.[/vc_column_text][/vc_column][/vc_row]
URL:https://www.flocomuseum.org/event/family-day-science-snowy-fun/
LOCATION:Florence County Museum\, 111 West Cheves Street\, Florence\, SC 29501\, Florence\, SC\, 29501\, United States
CATEGORIES:Family Day at FCM,Kids Programs
ATTACH;FMTTYPE=image/jpeg:https://www.flocomuseum.org/wp-content/uploads/2026/03/January-Family-Day.jpg
ORGANIZER;CN="Uschi Jeffcoat%2C Curator of Education":MAILTO:ujeffcoat@florenceco.org
END:VEVENT
BEGIN:VEVENT
DTSTART;TZID=America/New_York:20270213T130000
DTEND;TZID=America/New_York:20270213T150000
DTSTAMP:20260425T103937
CREATED:20260316T171605Z
LAST-MODIFIED:20260316T171638Z
UID:33977-1802523600-1802530800@www.flocomuseum.org
SUMMARY:Family Day - A Heart For Art
DESCRIPTION:[vc_row type=”in_container” full_screen_row_position=”middle” column_margin=”default” column_direction=”default” column_direction_tablet=”default” column_direction_phone=”default” scene_position=”center” text_color=”dark” text_align=”left” row_border_radius=”none” row_border_radius_applies=”bg” overflow=”visible” overlay_strength=”0.3″ gradient_direction=”left_to_right” shape_divider_position=”bottom” bg_image_animation=”none”][vc_column column_padding=”no-extra-padding” column_padding_tablet=”inherit” column_padding_phone=”inherit” column_padding_position=”all” column_element_direction_desktop=”default” column_element_spacing=”default” desktop_text_alignment=”default” tablet_text_alignment=”default” phone_text_alignment=”default” background_color_opacity=”1″ background_hover_color_opacity=”1″ column_backdrop_filter=”none” column_shadow=”none” column_border_radius=”none” column_link_target=”_self” column_position=”default” gradient_direction=”left_to_right” overlay_strength=”0.3″ width=”1/1″ tablet_width_inherit=”default” animation_type=”default” bg_image_animation=”none” border_type=”simple” column_border_width=”none” column_border_style=”solid”][divider line_type=”No Line” custom_height=”20px”][vc_column_text css=”” text_direction=”default”]\n\nJoin us on Saturday\, 2/13\, from 1pm to 3pm for Family Day – A Heart for Art. Share a love for art\, color\, and pattern while exploring printmaking to create a unique artwork to take home or give to your Valentine! Then\, combine creativity and fine motor skills by threading beads to make heart-shaped decorations to share! \nThe event is free (no registration required). \n\n[/vc_column_text][/vc_column][/vc_row]
URL:https://www.flocomuseum.org/event/family-day-a-heart-for-art/
LOCATION:Florence County Museum\, 111 West Cheves Street\, Florence\, SC 29501\, Florence\, SC\, 29501\, United States
CATEGORIES:Family Day at FCM,Free Event,Kids Programs
ATTACH;FMTTYPE=image/jpeg:https://www.flocomuseum.org/wp-content/uploads/2026/03/February-Family-Day.jpg
ORGANIZER;CN="Uschi Jeffcoat%2C Curator of Education":MAILTO:ujeffcoat@florenceco.org
END:VEVENT
BEGIN:VEVENT
DTSTART;TZID=America/New_York:20270313T130000
DTEND;TZID=America/New_York:20270313T150000
DTSTAMP:20260425T103937
CREATED:20260316T172316Z
LAST-MODIFIED:20260316T172345Z
UID:33980-1804942800-1804950000@www.flocomuseum.org
SUMMARY:Family Day - Feed & Observe the Birds
DESCRIPTION:[vc_row type=”in_container” full_screen_row_position=”middle” column_margin=”default” column_direction=”default” column_direction_tablet=”default” column_direction_phone=”default” scene_position=”center” text_color=”dark” text_align=”left” row_border_radius=”none” row_border_radius_applies=”bg” overflow=”visible” overlay_strength=”0.3″ gradient_direction=”left_to_right” shape_divider_position=”bottom” bg_image_animation=”none”][vc_column column_padding=”no-extra-padding” column_padding_tablet=”inherit” column_padding_phone=”inherit” column_padding_position=”all” column_element_direction_desktop=”default” column_element_spacing=”default” desktop_text_alignment=”default” tablet_text_alignment=”default” phone_text_alignment=”default” background_color_opacity=”1″ background_hover_color_opacity=”1″ column_backdrop_filter=”none” column_shadow=”none” column_border_radius=”none” column_link_target=”_self” column_position=”default” gradient_direction=”left_to_right” overlay_strength=”0.3″ width=”1/1″ tablet_width_inherit=”default” animation_type=”default” bg_image_animation=”none” border_type=”simple” column_border_width=”none” column_border_style=”solid”][divider line_type=”No Line” custom_height=”20px”][vc_column_text css=”” text_direction=”default”]\n\nJoin us on Saturday\, 3/13\, from 1pm to 3pm for Family Day – Feed & Observe the Birds. Create your own bird-themed bingo boards with colorful stickers and get to know local birds as you label them. Craft seed feeders to take home and attract local birds for your home bird bingo observation game! \nThe event is free (no registration required). \n\n[/vc_column_text][/vc_column][/vc_row]
URL:https://www.flocomuseum.org/event/family-day-feed-observe-the-birds/
LOCATION:Florence County Museum\, 111 West Cheves Street\, Florence\, SC 29501\, Florence\, SC\, 29501\, United States
CATEGORIES:Family Day at FCM,Free Event,Kids Programs
ATTACH;FMTTYPE=image/jpeg:https://www.flocomuseum.org/wp-content/uploads/2026/03/March-Family-Day.jpg
ORGANIZER;CN="Uschi Jeffcoat%2C Curator of Education":MAILTO:ujeffcoat@florenceco.org
END:VEVENT
BEGIN:VEVENT
DTSTART;TZID=America/New_York:20270410T130000
DTEND;TZID=America/New_York:20270410T150000
DTSTAMP:20260425T103937
CREATED:20260316T173737Z
LAST-MODIFIED:20260316T173842Z
UID:33983-1807362000-1807369200@www.flocomuseum.org
SUMMARY:Family Day - Eyes Wide Open
DESCRIPTION:[vc_row type=”in_container” full_screen_row_position=”middle” column_margin=”default” column_direction=”default” column_direction_tablet=”default” column_direction_phone=”default” scene_position=”center” text_color=”dark” text_align=”left” row_border_radius=”none” row_border_radius_applies=”bg” overflow=”visible” overlay_strength=”0.3″ gradient_direction=”left_to_right” shape_divider_position=”bottom” bg_image_animation=”none”][vc_column column_padding=”no-extra-padding” column_padding_tablet=”inherit” column_padding_phone=”inherit” column_padding_position=”all” column_element_direction_desktop=”default” column_element_spacing=”default” desktop_text_alignment=”default” tablet_text_alignment=”default” phone_text_alignment=”default” background_color_opacity=”1″ background_hover_color_opacity=”1″ column_backdrop_filter=”none” column_shadow=”none” column_border_radius=”none” column_link_target=”_self” column_position=”default” gradient_direction=”left_to_right” overlay_strength=”0.3″ width=”1/1″ tablet_width_inherit=”default” animation_type=”default” bg_image_animation=”none” border_type=”simple” column_border_width=”none” column_border_style=”solid”][divider line_type=”No Line” custom_height=”20px”][vc_column_text css=”” text_direction=”default”]\n\nJoin us on Saturday\, 4/10\, from 1pm to 3pm for Family Day – Eyes Wide Open!  Slow down\, notice the tiny details\, and let curiosity lead the way. Through guided gallery walks and hands-on activities\, discover how looking closely can unlock big ideas. \nThe event is free (no registration required). \n\n[/vc_column_text][/vc_column][/vc_row]
URL:https://www.flocomuseum.org/event/family-day-eyes-wide-open/
LOCATION:Florence County Museum\, 111 West Cheves Street\, Florence\, SC 29501\, Florence\, SC\, 29501\, United States
CATEGORIES:Family Day at FCM,Free Event,Kids Programs
ATTACH;FMTTYPE=image/jpeg:https://www.flocomuseum.org/wp-content/uploads/2026/03/April-Family-Day.jpg
ORGANIZER;CN="Uschi Jeffcoat%2C Curator of Education":MAILTO:ujeffcoat@florenceco.org
END:VEVENT
BEGIN:VEVENT
DTSTART;TZID=America/New_York:20270508T130000
DTEND;TZID=America/New_York:20270508T150000
DTSTAMP:20260425T103937
CREATED:20260316T174450Z
LAST-MODIFIED:20260316T174559Z
UID:33987-1809781200-1809788400@www.flocomuseum.org
SUMMARY:Family Day - Blooms in Art
DESCRIPTION:[vc_row type=”in_container” full_screen_row_position=”middle” column_margin=”default” column_direction=”default” column_direction_tablet=”default” column_direction_phone=”default” scene_position=”center” text_color=”dark” text_align=”left” row_border_radius=”none” row_border_radius_applies=”bg” overflow=”visible” overlay_strength=”0.3″ gradient_direction=”left_to_right” shape_divider_position=”bottom” bg_image_animation=”none”][vc_column column_padding=”no-extra-padding” column_padding_tablet=”inherit” column_padding_phone=”inherit” column_padding_position=”all” column_element_direction_desktop=”default” column_element_spacing=”default” desktop_text_alignment=”default” tablet_text_alignment=”default” phone_text_alignment=”default” background_color_opacity=”1″ background_hover_color_opacity=”1″ column_backdrop_filter=”none” column_shadow=”none” column_border_radius=”none” column_link_target=”_self” column_position=”default” gradient_direction=”left_to_right” overlay_strength=”0.3″ width=”1/1″ tablet_width_inherit=”default” animation_type=”default” bg_image_animation=”none” border_type=”simple” column_border_width=”none” column_border_style=”solid”][divider line_type=”No Line” custom_height=”20px”][vc_column_text css=”” text_direction=”default”]\n\nJoin us on Saturday\, 5/8\, from 1pm to 3pm for Family Day – Blooms in Art – Inspired by Elizabeth O’Neill Verner.  Step into the colorful world of flowers. Enjoy multi-sensory\, hands-on art activities inspired by  Elizabeth O’Neill Verner’s Flower Lady pastels on silk\, which are part of the Wright Collection of Southern Art. \nThe event is free (no registration required). \n\n[/vc_column_text][/vc_column][/vc_row]
URL:https://www.flocomuseum.org/event/family-day-blooms-in-art/
LOCATION:Florence County Museum\, 111 West Cheves Street\, Florence\, SC 29501\, Florence\, SC\, 29501\, United States
CATEGORIES:Family Day at FCM,Free Public Tour,Kids Programs
ATTACH;FMTTYPE=image/jpeg:https://www.flocomuseum.org/wp-content/uploads/2026/03/May-Family-Day.jpg
ORGANIZER;CN="Uschi Jeffcoat%2C Curator of Education":MAILTO:ujeffcoat@florenceco.org
END:VEVENT
BEGIN:VEVENT
DTSTART;TZID=America/New_York:20270612T130000
DTEND;TZID=America/New_York:20270612T150000
DTSTAMP:20260425T103937
CREATED:20260316T175002Z
LAST-MODIFIED:20260316T175040Z
UID:33990-1812805200-1812812400@www.flocomuseum.org
SUMMARY:Family Day - Color in Motion
DESCRIPTION:[vc_row type=”in_container” full_screen_row_position=”middle” column_margin=”default” column_direction=”default” column_direction_tablet=”default” column_direction_phone=”default” scene_position=”center” text_color=”dark” text_align=”left” row_border_radius=”none” row_border_radius_applies=”bg” overflow=”visible” overlay_strength=”0.3″ gradient_direction=”left_to_right” shape_divider_position=”bottom” bg_image_animation=”none”][vc_column column_padding=”no-extra-padding” column_padding_tablet=”inherit” column_padding_phone=”inherit” column_padding_position=”all” column_element_direction_desktop=”default” column_element_spacing=”default” desktop_text_alignment=”default” tablet_text_alignment=”default” phone_text_alignment=”default” background_color_opacity=”1″ background_hover_color_opacity=”1″ column_backdrop_filter=”none” column_shadow=”none” column_border_radius=”none” column_link_target=”_self” column_position=”default” gradient_direction=”left_to_right” overlay_strength=”0.3″ width=”1/1″ tablet_width_inherit=”default” animation_type=”default” bg_image_animation=”none” border_type=”simple” column_border_width=”none” column_border_style=”solid”][divider line_type=”No Line” custom_height=”20px”][vc_column_text css=”” text_direction=”default”]\n\nJoin us on Saturday\, 6/12\, from 1pm to 3pm for Family Day – Color in Motion. Explore the magic of color and movement through traditional Japanese paper marbling (suminagashi)\, racing marbles across paint\, creating and twirling a toy spinner\, and more. Discover how swirling patterns and vibrant colors become works of art. \nThe event is free (no registration required). \n\n[/vc_column_text][/vc_column][/vc_row]
URL:https://www.flocomuseum.org/event/family-day-color-in-motion/
LOCATION:Florence County Museum\, 111 West Cheves Street\, Florence\, SC 29501\, Florence\, SC\, 29501\, United States
CATEGORIES:Family Day at FCM,Free Event,Kids Programs
ATTACH;FMTTYPE=image/jpeg:https://www.flocomuseum.org/wp-content/uploads/2026/03/June-Family-Day.jpg
ORGANIZER;CN="Uschi Jeffcoat%2C Curator of Education":MAILTO:ujeffcoat@florenceco.org
END:VEVENT
END:VCALENDAR