BEGIN:VCALENDAR
VERSION:2.0
PRODID:-//Florence County Museum - ECPv6.15.20//NONSGML v1.0//EN
CALSCALE:GREGORIAN
METHOD:PUBLISH
X-ORIGINAL-URL:https://www.flocomuseum.org
X-WR-CALDESC:Events for Florence County Museum
REFRESH-INTERVAL;VALUE=DURATION:PT1H
X-Robots-Tag:noindex
X-PUBLISHED-TTL:PT1H
BEGIN:VTIMEZONE
TZID:America/New_York
BEGIN:DAYLIGHT
TZOFFSETFROM:-0500
TZOFFSETTO:-0400
TZNAME:EDT
DTSTART:20240310T070000
END:DAYLIGHT
BEGIN:STANDARD
TZOFFSETFROM:-0400
TZOFFSETTO:-0500
TZNAME:EST
DTSTART:20241103T060000
END:STANDARD
BEGIN:DAYLIGHT
TZOFFSETFROM:-0500
TZOFFSETTO:-0400
TZNAME:EDT
DTSTART:20250309T070000
END:DAYLIGHT
BEGIN:STANDARD
TZOFFSETFROM:-0400
TZOFFSETTO:-0500
TZNAME:EST
DTSTART:20251102T060000
END:STANDARD
BEGIN:DAYLIGHT
TZOFFSETFROM:-0500
TZOFFSETTO:-0400
TZNAME:EDT
DTSTART:20260308T070000
END:DAYLIGHT
BEGIN:STANDARD
TZOFFSETFROM:-0400
TZOFFSETTO:-0500
TZNAME:EST
DTSTART:20261101T060000
END:STANDARD
END:VTIMEZONE
BEGIN:VEVENT
DTSTART;TZID=America/New_York:20251108T130000
DTEND;TZID=America/New_York:20251108T150000
DTSTAMP:20260424T115710
CREATED:20240911T192440Z
LAST-MODIFIED:20250702T162146Z
UID:32713-1762606800-1762614000@www.flocomuseum.org
SUMMARY:Family Day - Watercolor Turkey
DESCRIPTION:[vc_row type=”in_container” full_screen_row_position=”middle” column_margin=”default” column_direction=”default” column_direction_tablet=”default” column_direction_phone=”default” scene_position=”center” text_color=”dark” text_align=”left” row_border_radius=”none” row_border_radius_applies=”bg” overflow=”visible” overlay_strength=”0.3″ gradient_direction=”left_to_right” shape_divider_position=”bottom” bg_image_animation=”none”][vc_column column_padding=”no-extra-padding” column_padding_tablet=”inherit” column_padding_phone=”inherit” column_padding_position=”all” column_element_direction_desktop=”default” column_element_spacing=”default” desktop_text_alignment=”default” tablet_text_alignment=”default” phone_text_alignment=”default” background_color_opacity=”1″ background_hover_color_opacity=”1″ column_backdrop_filter=”none” column_shadow=”none” column_border_radius=”none” column_link_target=”_self” column_position=”default” gradient_direction=”left_to_right” overlay_strength=”0.3″ width=”1/1″ tablet_width_inherit=”default” animation_type=”default” bg_image_animation=”none” border_type=”simple” column_border_width=”none” column_border_style=”solid”][divider line_type=”No Line” custom_height=”20px”][vc_column_text css=”” text_direction=”default”]\n\nJoin us on Saturday\, 11/08\, from 1pm to 3pm for Family Day – Watercolor Turkey. Did you know the museum has etchings of wild turkeys and a watercolor turkey in its collections? Learn more about these remarkable birds and create your own turkey in watercolor. \nThe event is free (no registration required). \n\n[/vc_column_text][/vc_column][/vc_row]
URL:https://www.flocomuseum.org/event/family-day-watercolor-turkey/
LOCATION:Florence County Museum\, 111 West Cheves Street\, Florence\, SC 29501\, Florence\, SC\, 29501\, United States
CATEGORIES:Family Day at FCM,Free Event,Kids Programs
ATTACH;FMTTYPE=image/jpeg:https://www.flocomuseum.org/wp-content/uploads/2017/07/Family-Day-Calendar-1.jpg
ORGANIZER;CN="Uschi Jeffcoat%2C Curator of Education":MAILTO:ujeffcoat@florenceco.org
END:VEVENT
BEGIN:VEVENT
DTSTART;TZID=America/New_York:20251109T141500
DTEND;TZID=America/New_York:20251109T141500
DTSTAMP:20260424T115710
CREATED:20230510T140148Z
LAST-MODIFIED:20251028T173328Z
UID:32644-1762697700-1762697700@www.flocomuseum.org
SUMMARY:Second Sunday Tours – Scavenger Hunt Through History
DESCRIPTION:[vc_row type=”in_container” full_screen_row_position=”middle” column_margin=”default” column_direction=”default” column_direction_tablet=”default” column_direction_phone=”default” scene_position=”center” text_color=”dark” text_align=”left” row_border_radius=”none” row_border_radius_applies=”bg” overflow=”visible” overlay_strength=”0.3″ gradient_direction=”left_to_right” shape_divider_position=”bottom” bg_image_animation=”none”][vc_column column_padding=”no-extra-padding” column_padding_tablet=”inherit” column_padding_phone=”inherit” column_padding_position=”all” column_element_direction_desktop=”default” column_element_spacing=”default” desktop_text_alignment=”default” tablet_text_alignment=”default” phone_text_alignment=”default” background_color_opacity=”1″ background_hover_color_opacity=”1″ column_backdrop_filter=”none” column_shadow=”none” column_border_radius=”none” column_link_target=”_self” column_position=”default” gradient_direction=”left_to_right” overlay_strength=”0.3″ width=”1/1″ tablet_width_inherit=”default” animation_type=”default” bg_image_animation=”none” border_type=”simple” column_border_width=”none” column_border_style=”solid”][vc_column_text css=”” text_direction=”default”]Join us for a free\, docent-led scavenger hunt through the museum’s Pee History Gallery. Our scavenger hunts provide visitors with a creative\, non-linear way to explore and learn within the gallery. The museum docent will share fun contextual facts about select objects you discover. This experience is great for visitors of all ages. Registration is required via the link on this page. \nThe Pee Dee History Gallery is the largest gallery space in the facility\, comprising 3\,300 sq. ft. of exhibit space. This permanent collections gallery occupies the entire second floor\, east wing of the building. Artifacts on display are supported by historical images and narrative interpretation\, providing a comprehensive introduction to the Pee Dee region from prehistory to the present. \nHighlights in this gallery include Cretaceous period reptile material\, an 18 ft. tall Ancient Bald Cypress trunk sub-fossil\, Native American and Colonial period artifacts\, Civil War artifacts from the Florence Stockade prison camp and Confederate Naval Yard at Mars Bluff\, artifacts related to life and career of former FBI agent and Florence County native\, Melvin Purvis and fragments of the MK-6 atomic bomb which was accidentally dropped on the Mars Bluff community in 1958.[/vc_column_text][divider line_type=”No Line” custom_height=”20px”][nectar_btn size=”large” open_new_tab=”true” button_style=”regular” button_color_2=”Accent-Color” icon_family=”none” text=”Register for Scavenger Hunt” url=”https://www.eventbrite.com/e/sunday-tours-pee-history-gallery-tickets-1323580277239″][/vc_column][/vc_row][vc_row type=”in_container” full_screen_row_position=”middle” column_margin=”default” column_direction=”default” column_direction_tablet=”default” column_direction_phone=”default” scene_position=”center” text_color=”dark” text_align=”left” row_border_radius=”none” row_border_radius_applies=”bg” overflow=”visible” overlay_strength=”0.3″ gradient_direction=”left_to_right” shape_divider_position=”bottom” bg_image_animation=”none”][vc_column column_padding=”padding-2-percent” column_padding_tablet=”inherit” column_padding_phone=”inherit” column_padding_position=”top” column_element_direction_desktop=”default” column_element_spacing=”default” desktop_text_alignment=”default” tablet_text_alignment=”default” phone_text_alignment=”default” background_color_opacity=”1″ background_hover_color_opacity=”1″ column_backdrop_filter=”none” column_shadow=”none” column_border_radius=”none” column_link_target=”_self” column_position=”default” gradient_direction=”left_to_right” overlay_strength=”0.3″ width=”1/1″ tablet_width_inherit=”default” animation_type=”default” bg_image_animation=”none” border_type=”simple” column_border_width=”none” column_border_style=”solid” column_padding_type=”default” gradient_type=”default”][vc_column_text css=”” text_direction=”default”]Upcoming Second Sunday Tours:\n12/14/25 – Unforgettable: The Civil Rights Photography of Cecil Williams\n1/11/26 – Unforgettable: The Civil Rights Photography of Cecil Williams[/vc_column_text][/vc_column][/vc_row]
URL:https://www.flocomuseum.org/event/second-sunday-tours-pee-dee-history-gallery-110925/
LOCATION:Florence County Museum\, 111 West Cheves Street\, Florence\, SC 29501\, Florence\, SC\, 29501\, United States
CATEGORIES:Free Public Tour,Kids Programs
ATTACH;FMTTYPE=image/jpeg:https://www.flocomuseum.org/wp-content/uploads/2023/05/Site-Featured-2k-x-1k.jpg
ORGANIZER;CN="Uschi Jeffcoat%2C Curator of Education":MAILTO:ujeffcoat@florenceco.org
END:VEVENT
END:VCALENDAR