BEGIN:VCALENDAR
VERSION:2.0
PRODID:-//Florence County Museum - ECPv6.15.20//NONSGML v1.0//EN
CALSCALE:GREGORIAN
METHOD:PUBLISH
X-ORIGINAL-URL:https://www.flocomuseum.org
X-WR-CALDESC:Events for Florence County Museum
REFRESH-INTERVAL;VALUE=DURATION:PT1H
X-Robots-Tag:noindex
X-PUBLISHED-TTL:PT1H
BEGIN:VTIMEZONE
TZID:America/New_York
BEGIN:DAYLIGHT
TZOFFSETFROM:-0500
TZOFFSETTO:-0400
TZNAME:EDT
DTSTART:20240310T070000
END:DAYLIGHT
BEGIN:STANDARD
TZOFFSETFROM:-0400
TZOFFSETTO:-0500
TZNAME:EST
DTSTART:20241103T060000
END:STANDARD
BEGIN:DAYLIGHT
TZOFFSETFROM:-0500
TZOFFSETTO:-0400
TZNAME:EDT
DTSTART:20250309T070000
END:DAYLIGHT
BEGIN:STANDARD
TZOFFSETFROM:-0400
TZOFFSETTO:-0500
TZNAME:EST
DTSTART:20251102T060000
END:STANDARD
BEGIN:DAYLIGHT
TZOFFSETFROM:-0500
TZOFFSETTO:-0400
TZNAME:EDT
DTSTART:20260308T070000
END:DAYLIGHT
BEGIN:STANDARD
TZOFFSETFROM:-0400
TZOFFSETTO:-0500
TZNAME:EST
DTSTART:20261101T060000
END:STANDARD
END:VTIMEZONE
BEGIN:VEVENT
DTSTART;TZID=America/New_York:20250904T103000
DTEND;TZID=America/New_York:20250904T120000
DTSTAMP:20260424T144602
CREATED:20250609T175537Z
LAST-MODIFIED:20250731T133846Z
UID:32930-1756981800-1756987200@www.flocomuseum.org
SUMMARY:History Exploration through Art (for Homeschoolers)
DESCRIPTION:[vc_row type=”in_container” full_screen_row_position=”middle” column_margin=”default” column_direction=”default” column_direction_tablet=”default” column_direction_phone=”default” scene_position=”center” text_color=”dark” text_align=”left” row_border_radius=”none” row_border_radius_applies=”bg” overflow=”visible” overlay_strength=”0.3″ gradient_direction=”left_to_right” shape_divider_position=”bottom” bg_image_animation=”none”][vc_column column_padding=”no-extra-padding” column_padding_tablet=”inherit” column_padding_phone=”inherit” column_padding_position=”all” column_element_direction_desktop=”default” column_element_spacing=”default” desktop_text_alignment=”default” tablet_text_alignment=”default” phone_text_alignment=”default” background_color_opacity=”1″ background_hover_color_opacity=”1″ column_backdrop_filter=”none” column_shadow=”none” column_border_radius=”none” column_link_target=”_self” column_position=”default” gradient_direction=”left_to_right” overlay_strength=”0.3″ width=”1/2″ tablet_width_inherit=”default” animation_type=”default” bg_image_animation=”none” border_type=”simple” column_border_width=”none” column_border_style=”solid”][vc_column_text css=”” text_direction=”default”]Engage with the history of the Pee Dee through arts exploration in this 3-session hands-on class designed for homeschool students. Deepen your understanding of art\, artifacts\, and history. Each session is inspired by objects found within the museum’s Pee Dee History Gallery\, taught by Betsy Hoyle.All levels of experience welcome. \nBetsy Hoyle holds a BS in Interior Design and Family and Consumer Science with a minor in Studio Art from Meredith College. Betsy has worked for a mixed-use building company\, studied with the Palmetto Montessori Institute\, and under local studio artists Jackie Wukela and Dale Weatherford. She has home-schooled both of her daughters at different ages. She has integrated various media into elementary art at the Montessori School of Florence and currently participates in the Florence County Museum docent program.[/vc_column_text][divider line_type=”No Line”][nectar_btn size=”large” open_new_tab=”true” button_style=”regular” button_color_2=”Accent-Color” icon_family=”none” text=”Register Here” url=”https://www.eventbrite.com/e/history-exploration-through-art-for-homeschoolers-tickets-1405755886699″][/vc_column][vc_column column_padding=”no-extra-padding” column_padding_tablet=”inherit” column_padding_phone=”inherit” column_padding_position=”all” column_element_direction_desktop=”default” column_element_spacing=”default” desktop_text_alignment=”default” tablet_text_alignment=”default” phone_text_alignment=”default” background_color_opacity=”1″ background_hover_color_opacity=”1″ column_backdrop_filter=”none” column_shadow=”none” column_border_radius=”none” column_link_target=”_self” column_position=”default” gradient_direction=”left_to_right” overlay_strength=”0.3″ width=”1/2″ tablet_width_inherit=”default” animation_type=”default” bg_image_animation=”none” border_type=”simple” column_border_width=”none” column_border_style=”solid”][vc_column_text css=”” text_direction=”default”]Dates:\nThursday\, September 4 | 10:30 am – 12:30 pm\nThursday\, October 2 | 10:30 am – 12:30 pm\nThursday\, November 6 | 10:30 am – 12:30 pm \nClass Size:\nAges 8 -13\nLimited to 12 participants \nTickets go on sale to the general public on Aug 4\, 2025\, at 10 am.\nMembers get priority ticket access the week before starting on July 28\, 2025. Only 4 early tickets are available. \nCost $50/participant for all three sessions (supplies included)\nMuseum members\, check the Member Portal for your discount code.[/vc_column_text][/vc_column][/vc_row]
URL:https://www.flocomuseum.org/event/history-exploration-through-art-for-homeschoolers/
LOCATION:Florence County Museum\, 111 West Cheves Street\, Florence\, SC 29501\, Florence\, SC\, 29501\, United States
CATEGORIES:Homeschool,Kids Programs
ATTACH;FMTTYPE=image/jpeg:https://www.flocomuseum.org/wp-content/uploads/2025/06/Homeschool-2.jpg
ORGANIZER;CN="Uschi Jeffcoat%2C Curator of Education":MAILTO:ujeffcoat@florenceco.org
END:VEVENT
BEGIN:VEVENT
DTSTART;TZID=America/New_York:20250913T130000
DTEND;TZID=America/New_York:20250913T150000
DTSTAMP:20260424T144602
CREATED:20240911T192440Z
LAST-MODIFIED:20250905T140519Z
UID:32666-1757768400-1757775600@www.flocomuseum.org
SUMMARY:Family Day - Mathematical Ratios & Portraits
DESCRIPTION:[vc_row type=”in_container” full_screen_row_position=”middle” column_margin=”default” column_direction=”default” column_direction_tablet=”default” column_direction_phone=”default” scene_position=”center” text_color=”dark” text_align=”left” row_border_radius=”none” row_border_radius_applies=”bg” overflow=”visible” overlay_strength=”0.3″ gradient_direction=”left_to_right” shape_divider_position=”bottom” bg_image_animation=”none”][vc_column column_padding=”no-extra-padding” column_padding_tablet=”inherit” column_padding_phone=”inherit” column_padding_position=”all” column_element_direction_desktop=”default” column_element_spacing=”default” desktop_text_alignment=”default” tablet_text_alignment=”default” phone_text_alignment=”default” background_color_opacity=”1″ background_hover_color_opacity=”1″ column_backdrop_filter=”none” column_shadow=”none” column_border_radius=”none” column_link_target=”_self” column_position=”default” gradient_direction=”left_to_right” overlay_strength=”0.3″ width=”1/1″ tablet_width_inherit=”default” animation_type=”default” bg_image_animation=”none” border_type=”simple” column_border_width=”none” column_border_style=”solid”][divider line_type=”No Line” custom_height=”20px”][vc_column_text css=”” text_direction=”default”]\n\nJoin us on Saturday\, 9/13\, from 1pm to 3pm for Family Day – Mathematical Ratios & Portraits. Visit the Educational Gallery and observe portraits in multiple media. Then join us in the studio spaces to learn how to create your own ¾ portrait. You’ll explore the measurement relationships and connections used within portraiture art! \nThe event is free (no registration required). \n\n[/vc_column_text][/vc_column][/vc_row]
URL:https://www.flocomuseum.org/event/family-day-mathematical-ratios-portraits/
LOCATION:Florence County Museum\, 111 West Cheves Street\, Florence\, SC 29501\, Florence\, SC\, 29501\, United States
CATEGORIES:Family Day at FCM,Free Event,Kids Programs
ATTACH;FMTTYPE=image/jpeg:https://www.flocomuseum.org/wp-content/uploads/2018/06/FCM-Family-Day-Press.jpg
ORGANIZER;CN="Uschi Jeffcoat%2C Curator of Education":MAILTO:ujeffcoat@florenceco.org
END:VEVENT
BEGIN:VEVENT
DTSTART;TZID=America/New_York:20250914T141500
DTEND;TZID=America/New_York:20250914T141500
DTSTAMP:20260424T144602
CREATED:20230510T140148Z
LAST-MODIFIED:20250828T192408Z
UID:32634-1757859300-1757859300@www.flocomuseum.org
SUMMARY:Second Sunday Tours – Pee Dee History Gallery
DESCRIPTION:[vc_row type=”in_container” full_screen_row_position=”middle” column_margin=”default” column_direction=”default” column_direction_tablet=”default” column_direction_phone=”default” scene_position=”center” text_color=”dark” text_align=”left” row_border_radius=”none” row_border_radius_applies=”bg” overflow=”visible” overlay_strength=”0.3″ gradient_direction=”left_to_right” shape_divider_position=”bottom” bg_image_animation=”none”][vc_column column_padding=”no-extra-padding” column_padding_tablet=”inherit” column_padding_phone=”inherit” column_padding_position=”all” column_element_direction_desktop=”default” column_element_spacing=”default” desktop_text_alignment=”default” tablet_text_alignment=”default” phone_text_alignment=”default” background_color_opacity=”1″ background_hover_color_opacity=”1″ column_backdrop_filter=”none” column_shadow=”none” column_border_radius=”none” column_link_target=”_self” column_position=”default” gradient_direction=”left_to_right” overlay_strength=”0.3″ width=”1/1″ tablet_width_inherit=”default” animation_type=”default” bg_image_animation=”none” border_type=”simple” column_border_width=”none” column_border_style=”solid”][vc_column_text css=”” text_direction=”default”]Join us for a free\, docent-led tour of the museum’s Pee History Gallery. Registration is required via the link on this page. \nThe Pee Dee History Gallery is the largest gallery space in the facility\, comprising 3\,300 sq. ft. of exhibit space. This permanent collections gallery occupies the entire second floor\, east wing of the building. Artifacts on display are supported by historical images and narrative interpretation\, providing a comprehensive introduction to the Pee Dee region from prehistory to the present. \nHighlights in this gallery include Cretaceous period reptile material\, an 18 ft. tall Ancient Bald Cypress trunk sub-fossil\, Native American and Colonial period artifacts\, Civil War artifacts from the Florence Stockade prison camp and Confederate Naval Yard at Mars Bluff\, artifacts related to life and career of former FBI agent and Florence County native\, Melvin Purvis and fragments of the MK-6 atomic bomb which was accidentally dropped on the Mars Bluff community in 1958.[/vc_column_text][divider line_type=”No Line” custom_height=”20px”][nectar_btn size=”large” open_new_tab=”true” button_style=”regular” button_color_2=”Accent-Color” icon_family=”none” text=”Register for Tour!” url=”https://www.eventbrite.com/e/sunday-tours-pee-dee-history-gallery-tickets-1323578592199″][/vc_column][/vc_row][vc_row type=”in_container” full_screen_row_position=”middle” column_margin=”default” column_direction=”default” column_direction_tablet=”default” column_direction_phone=”default” scene_position=”center” text_color=”dark” text_align=”left” row_border_radius=”none” row_border_radius_applies=”bg” overflow=”visible” overlay_strength=”0.3″ gradient_direction=”left_to_right” shape_divider_position=”bottom” bg_image_animation=”none”][vc_column column_padding=”padding-2-percent” column_padding_tablet=”inherit” column_padding_phone=”inherit” column_padding_position=”top” column_element_direction_desktop=”default” column_element_spacing=”default” desktop_text_alignment=”default” tablet_text_alignment=”default” phone_text_alignment=”default” background_color_opacity=”1″ background_hover_color_opacity=”1″ column_backdrop_filter=”none” column_shadow=”none” column_border_radius=”none” column_link_target=”_self” column_position=”default” gradient_direction=”left_to_right” overlay_strength=”0.3″ width=”1/1″ tablet_width_inherit=”default” animation_type=”default” bg_image_animation=”none” border_type=”simple” column_border_width=”none” column_border_style=”solid” column_padding_type=”default” gradient_type=”default”][vc_column_text css=”” text_direction=”default”]Upcoming Second Sunday Tours:\n10/12/25 – Pee Dee History Gallery\n11/09/25 – Pee Dee History Gallery\n12/14/25 – Unforgettable: The Civil Rights Photography of Cecil Williams\n1/11/26 – Unforgettable: The Civil Rights Photography of Cecil Williams[/vc_column_text][/vc_column][/vc_row]
URL:https://www.flocomuseum.org/event/second-sunday-tours-pee-dee-history-gallery-091425/
LOCATION:Florence County Museum\, 111 West Cheves Street\, Florence\, SC 29501\, Florence\, SC\, 29501\, United States
CATEGORIES:Free Public Tour,Kids Programs
ATTACH;FMTTYPE=image/jpeg:https://www.flocomuseum.org/wp-content/uploads/2023/05/Pee-Dee-History-Tour-2.jpg
ORGANIZER;CN="Uschi Jeffcoat%2C Curator of Education":MAILTO:ujeffcoat@florenceco.org
END:VEVENT
END:VCALENDAR