BEGIN:VCALENDAR
VERSION:2.0
PRODID:-//Florence County Museum - ECPv6.15.20//NONSGML v1.0//EN
CALSCALE:GREGORIAN
METHOD:PUBLISH
X-ORIGINAL-URL:https://www.flocomuseum.org
X-WR-CALDESC:Events for Florence County Museum
REFRESH-INTERVAL;VALUE=DURATION:PT1H
X-Robots-Tag:noindex
X-PUBLISHED-TTL:PT1H
BEGIN:VTIMEZONE
TZID:America/New_York
BEGIN:DAYLIGHT
TZOFFSETFROM:-0500
TZOFFSETTO:-0400
TZNAME:EDT
DTSTART:20240310T070000
END:DAYLIGHT
BEGIN:STANDARD
TZOFFSETFROM:-0400
TZOFFSETTO:-0500
TZNAME:EST
DTSTART:20241103T060000
END:STANDARD
BEGIN:DAYLIGHT
TZOFFSETFROM:-0500
TZOFFSETTO:-0400
TZNAME:EDT
DTSTART:20250309T070000
END:DAYLIGHT
BEGIN:STANDARD
TZOFFSETFROM:-0400
TZOFFSETTO:-0500
TZNAME:EST
DTSTART:20251102T060000
END:STANDARD
BEGIN:DAYLIGHT
TZOFFSETFROM:-0500
TZOFFSETTO:-0400
TZNAME:EDT
DTSTART:20260308T070000
END:DAYLIGHT
BEGIN:STANDARD
TZOFFSETFROM:-0400
TZOFFSETTO:-0500
TZNAME:EST
DTSTART:20261101T060000
END:STANDARD
END:VTIMEZONE
BEGIN:VEVENT
DTSTART;TZID=America/New_York:20250208T130000
DTEND;TZID=America/New_York:20250208T150000
DTSTAMP:20260425T002822
CREATED:20240911T192440Z
LAST-MODIFIED:20241017T144409Z
UID:31531-1739019600-1739026800@www.flocomuseum.org
SUMMARY:Family Day - Scrapbook
DESCRIPTION:[vc_row type=”in_container” full_screen_row_position=”middle” column_margin=”default” column_direction=”default” column_direction_tablet=”default” column_direction_phone=”default” scene_position=”center” text_color=”dark” text_align=”left” row_border_radius=”none” row_border_radius_applies=”bg” overflow=”visible” overlay_strength=”0.3″ gradient_direction=”left_to_right” shape_divider_position=”bottom” bg_image_animation=”none”][vc_column column_padding=”no-extra-padding” column_padding_tablet=”inherit” column_padding_phone=”inherit” column_padding_position=”all” column_element_direction_desktop=”default” column_element_spacing=”default” desktop_text_alignment=”default” tablet_text_alignment=”default” phone_text_alignment=”default” background_color_opacity=”1″ background_hover_color_opacity=”1″ column_backdrop_filter=”none” column_shadow=”none” column_border_radius=”none” column_link_target=”_self” column_position=”default” gradient_direction=”left_to_right” overlay_strength=”0.3″ width=”1/1″ tablet_width_inherit=”default” animation_type=”default” bg_image_animation=”none” border_type=”simple” column_border_width=”none” column_border_style=”solid”][divider line_type=”No Line” custom_height=”20px”][vc_column_text css=”” text_direction=”default”]\n\nJoin us on Saturday\, 2/8\, from 1pm to 3pm for Family Day – Scrapbooks. Create your own scrapbook in the Classroom located on the Education Wing to collect memories and creations. Design a cover with your initials and create pockets in which to hide visual treasures. Learn more about William Henry Johnnson’s scrapbooks\, in which he gathered newspaper clippings and source materials for his paintings. Visitors will go home with one of their own in which to keep future Family Day memorabilia inspired by Fighters for Freedom: William H. Johnson Picturing Justice\, opening February 4\, 2025. \n\nThe event is free (no registration required).\n[/vc_column_text][/vc_column][/vc_row]
URL:https://www.flocomuseum.org/event/family-day-scrapbook/
LOCATION:Florence County Museum\, 111 West Cheves Street\, Florence\, SC 29501\, Florence\, SC\, 29501\, United States
CATEGORIES:Family Day at FCM,Free Event,Kids Programs
ATTACH;FMTTYPE=image/jpeg:https://www.flocomuseum.org/wp-content/uploads/2024/09/Family-Day-1000x500-1.jpg
ORGANIZER;CN="Uschi Jeffcoat%2C Curator of Education":MAILTO:ujeffcoat@florenceco.org
END:VEVENT
BEGIN:VEVENT
DTSTART;TZID=America/New_York:20250219T100000
DTEND;TZID=America/New_York:20250219T110000
DTSTAMP:20260425T002822
CREATED:20240911T192440Z
LAST-MODIFIED:20241017T134501Z
UID:31193-1739959200-1739962800@www.flocomuseum.org
SUMMARY:Mornings at the Museum
DESCRIPTION:[vc_row type=”in_container” full_screen_row_position=”middle” column_margin=”default” column_direction=”default” column_direction_tablet=”default” column_direction_phone=”default” scene_position=”center” text_color=”dark” text_align=”left” row_border_radius=”none” row_border_radius_applies=”bg” overflow=”visible” overlay_strength=”0.3″ gradient_direction=”left_to_right” shape_divider_position=”bottom” bg_image_animation=”none”][vc_column column_padding=”no-extra-padding” column_padding_tablet=”inherit” column_padding_phone=”inherit” column_padding_position=”all” column_element_direction_desktop=”default” column_element_spacing=”default” desktop_text_alignment=”default” tablet_text_alignment=”default” phone_text_alignment=”default” background_color_opacity=”1″ background_hover_color_opacity=”1″ column_backdrop_filter=”none” column_shadow=”none” column_border_radius=”none” column_link_target=”_self” column_position=”default” gradient_direction=”left_to_right” overlay_strength=”0.3″ width=”1/1″ tablet_width_inherit=”default” animation_type=”default” bg_image_animation=”none” border_type=”simple” column_border_width=”none” column_border_style=”solid”][divider line_type=”No Line” custom_height=”20px”][vc_column_text]Mornings at the Museum is an interactive program for children ages 3-5 with an accompanying adult. This program is offered from September through May on the 3rd Wednesday of each month from 10:00 am to 11:00 am. The program will include a gallery visit\, storytime\, and hands-on studio activity. \nWe will read “Mouse Paint” by Ellen Stoll Wash in the gallery. Your child will learn about how important primary colors are in all forms of art. The children will also paint primary colored mice in the museum classroom. \nThe cost is $5 per family attending for nonmuseum members and FREE for museum members.[/vc_column_text][divider line_type=”No Line” custom_height=”20px”][nectar_btn size=”jumbo” open_new_tab=”true” button_style=”regular” button_color_2=”Accent-Color” icon_family=”none” text=”Register Your Child” url=”https://www.eventbrite.com/e/mornings-at-the-museum-219-tickets-1021694564947?aff=oddtdtcreator”][/vc_column][/vc_row][vc_row type=”in_container” full_screen_row_position=”middle” column_margin=”default” column_direction=”default” column_direction_tablet=”default” column_direction_phone=”default” scene_position=”center” text_color=”dark” text_align=”left” row_border_radius=”none” row_border_radius_applies=”bg” overflow=”visible” overlay_strength=”0.3″ gradient_direction=”left_to_right” shape_divider_position=”bottom” bg_image_animation=”none”][vc_column column_padding=”no-extra-padding” column_padding_tablet=”inherit” column_padding_phone=”inherit” column_padding_position=”all” column_element_direction_desktop=”default” column_element_spacing=”default” desktop_text_alignment=”default” tablet_text_alignment=”default” phone_text_alignment=”default” background_color_opacity=”1″ background_hover_color_opacity=”1″ column_backdrop_filter=”none” column_shadow=”none” column_border_radius=”none” column_link_target=”_self” column_position=”default” gradient_direction=”left_to_right” overlay_strength=”0.3″ width=”1/1″ tablet_width_inherit=”default” animation_type=”default” bg_image_animation=”none” border_type=”simple” column_border_width=”none” column_border_style=”solid”][/vc_column][/vc_row]
URL:https://www.flocomuseum.org/event/mornings-at-the-museum-02-19/
LOCATION:Florence County Museum\, 111 West Cheves Street\, Florence\, SC 29501\, Florence\, SC\, 29501\, United States
CATEGORIES:Kids Programs,Mornings at the Museum
ATTACH;FMTTYPE=image/jpeg:https://www.flocomuseum.org/wp-content/uploads/2024/09/Matm-1000x500-1.jpg
ORGANIZER;CN="Uschi Jeffcoat%2C Curator of Education":MAILTO:ujeffcoat@florenceco.org
END:VEVENT
END:VCALENDAR