BEGIN:VCALENDAR
VERSION:2.0
PRODID:-//Florence County Museum - ECPv6.15.20//NONSGML v1.0//EN
CALSCALE:GREGORIAN
METHOD:PUBLISH
X-ORIGINAL-URL:https://www.flocomuseum.org
X-WR-CALDESC:Events for Florence County Museum
REFRESH-INTERVAL;VALUE=DURATION:PT1H
X-Robots-Tag:noindex
X-PUBLISHED-TTL:PT1H
BEGIN:VTIMEZONE
TZID:America/New_York
BEGIN:DAYLIGHT
TZOFFSETFROM:-0500
TZOFFSETTO:-0400
TZNAME:EDT
DTSTART:20220313T070000
END:DAYLIGHT
BEGIN:STANDARD
TZOFFSETFROM:-0400
TZOFFSETTO:-0500
TZNAME:EST
DTSTART:20221106T060000
END:STANDARD
BEGIN:DAYLIGHT
TZOFFSETFROM:-0500
TZOFFSETTO:-0400
TZNAME:EDT
DTSTART:20230312T070000
END:DAYLIGHT
BEGIN:STANDARD
TZOFFSETFROM:-0400
TZOFFSETTO:-0500
TZNAME:EST
DTSTART:20231105T060000
END:STANDARD
BEGIN:DAYLIGHT
TZOFFSETFROM:-0500
TZOFFSETTO:-0400
TZNAME:EDT
DTSTART:20240310T070000
END:DAYLIGHT
BEGIN:STANDARD
TZOFFSETFROM:-0400
TZOFFSETTO:-0500
TZNAME:EST
DTSTART:20241103T060000
END:STANDARD
BEGIN:DAYLIGHT
TZOFFSETFROM:-0500
TZOFFSETTO:-0400
TZNAME:EDT
DTSTART:20250309T070000
END:DAYLIGHT
BEGIN:STANDARD
TZOFFSETFROM:-0400
TZOFFSETTO:-0500
TZNAME:EST
DTSTART:20251102T060000
END:STANDARD
END:VTIMEZONE
BEGIN:VEVENT
DTSTART;TZID=America/New_York:20241017T170000
DTEND;TZID=America/New_York:20241017T190000
DTSTAMP:20260424T044436
CREATED:20190917T152015Z
LAST-MODIFIED:20241017T152847Z
UID:31420-1729184400-1729191600@www.flocomuseum.org
SUMMARY:Arkhaios Film Festival - Free Film Screening
DESCRIPTION:[vc_row type=”in_container” full_screen_row_position=”middle” column_margin=”default” column_direction=”default” column_direction_tablet=”default” column_direction_phone=”default” scene_position=”center” text_color=”dark” text_align=”left” row_border_radius=”none” row_border_radius_applies=”bg” overflow=”visible” overlay_strength=”0.3″ gradient_direction=”left_to_right” shape_divider_position=”bottom” bg_image_animation=”none”][vc_column column_padding=”no-extra-padding” column_padding_tablet=”inherit” column_padding_phone=”inherit” column_padding_position=”all” column_element_direction_desktop=”default” column_element_spacing=”default” desktop_text_alignment=”default” tablet_text_alignment=”default” phone_text_alignment=”default” background_color_opacity=”1″ background_hover_color_opacity=”1″ column_backdrop_filter=”none” column_shadow=”none” column_border_radius=”none” column_link_target=”_self” column_position=”default” gradient_direction=”left_to_right” overlay_strength=”0.3″ width=”1/1″ tablet_width_inherit=”default” animation_type=”default” bg_image_animation=”none” border_type=”simple” column_border_width=”none” column_border_style=”solid”][vc_column_text css=”” text_direction=”default”]Join the Florence County Museum and the Arkhaios Cultural Heritage & Archaeology Film Festival for an evening dedicated to film\, archaeology and cultural heritage\, on Thursday\, October 17\, 5:00 to 7:00pm at the Florence County Museum in the Multipurpose Room. Tickets are free. Register using the link below. \nThis free event will include an introduction and screening of two selected films: Fall of the Maya Kings and Curiosity Trek! Episode 4: “A Submarine Commander’s Lucky Charm”. \nThe Arkhaios Film Festival is sponsored by the SC Institute of Archaeology and Anthropology (SCIAA) and the Department of Anthropology of the University of South Carolina\, and the Welsch Tract Historic Properties Association\, in South Carolina\, and in Pennsylvania by the Department of Anthropology of the University of Pittsburgh\, and the Allegheny Chapter #1 of the Society for Pennsylvania Archaeology.[/vc_column_text][nectar_btn size=”large” open_new_tab=”true” button_style=”regular” button_color_2=”Accent-Color” icon_family=”none” text=”Get Your Free Ticket(s)” url=”https://www.eventbrite.com/e/arkhaios-film-festival-fall-of-the-maya-kings-tickets-1028357263257?aff=oddtdtcreator”][divider line_type=”No Line” custom_height=”40px”][vc_video link=”https://youtu.be/5g0usnZ_0c0″ css=””][vc_column_text css=”” text_direction=”default”]Fall of the Maya Kings – 52 mins. \nDirector Leif Kaldor\, Leslea Mair\, Zoot Pictures\, (Canada) One of the great mysteries of history is how the ancient Maya built such an incredible society in a tropical rainforest over two thousand years – and then vanished. How? Why? Discoveries and new science can now tell the story. Hidden deep in sacred caves lies evidence of when the rains stopped coming – and for how long. Advanced bone analysis from hundreds of graves tells us what the Maya ate\, where they came from\, and what changed in their lives. Lidar strips away the jungle and CGI shows their world in a way never seen before\, revealing the incredible geo-engineering and complexity that allowed cities to grow to immense size – perhaps too big. The most amazing new find – the KomKom vase – is the only written account of its kind\, detailing events at the cusp of collapse. It speaks of a story of war\, family power struggles between divine god-kings\, failing power in the face of climate change\, and murder. Experts lead us deep into the sacred caves to the site of escalating offerings\, human sacrifice\, and in final desperation\, child sacrifice. In the thick jungle\, key sites reveal enigmatic piles of goods and bodies buried in palace rubble\, as chaos and desperation grew\, until – the end of their world. The Fall of the Maya Kings is a one-hour documentary that traces the story of the ancient Maya collapse\, from inside the chaos – as told by the ancient Maya themselves.[/vc_column_text][divider line_type=”No Line” custom_height=”40px”][vc_video link=”https://youtube.com/shorts/AlXPL-Z3LLI?si=R8EIF30GShA2aQ_t” css=””][vc_column_text css=”” text_direction=”default”]Curiosity Trek! Episode 4: “A Submarine Commander’s Lucky Charm” – 8 min. \nDirector and Producer Andrew Davis\, SCETV\, (USA) This episode of Curiosity Trek! dives into the history behind the legendary “Life Preserver” of Lieutenant George Dixon – a gold $20 coin that saved his life at the Battle of Shiloh in the American Civil War. He carried this coin with him everywhere he went – even during the Confederate submarine H.L. Hunley’s fateful run in February 1864. This tale was originally thought to be legend\, but myth became fact when the coin was discovered among Dixon’s remains inside the Hunley. Hunley expert Mike Scafuri of the Warren-Lasch Conservation Center in Charleston joins host Andrew Davis to elaborate on this fascinating artifact![/vc_column_text][divider line_type=”No Line” custom_height=”40px”][/vc_column][/vc_row][vc_row type=”in_container” full_screen_row_position=”middle” column_margin=”default” column_direction=”default” column_direction_tablet=”default” column_direction_phone=”default” scene_position=”center” text_color=”dark” text_align=”left” row_border_radius=”none” row_border_radius_applies=”bg” overflow=”visible” overlay_strength=”0.3″ gradient_direction=”left_to_right” shape_divider_position=”bottom” bg_image_animation=”none”][vc_column column_padding=”no-extra-padding” column_padding_tablet=”inherit” column_padding_phone=”inherit” column_padding_position=”all” column_element_direction_desktop=”default” column_element_spacing=”default” desktop_text_alignment=”default” tablet_text_alignment=”default” phone_text_alignment=”default” background_color_opacity=”1″ background_hover_color_opacity=”1″ column_backdrop_filter=”none” column_shadow=”none” column_border_radius=”none” column_link_target=”_self” column_position=”default” gradient_direction=”left_to_right” overlay_strength=”0.3″ width=”1/1″ tablet_width_inherit=”default” animation_type=”default” bg_image_animation=”none” border_type=”simple” column_border_width=”none” column_border_style=”solid”][/vc_column][/vc_row]
URL:https://www.flocomuseum.org/event/arkhaios-film-festival-2024/
LOCATION:Florence County Museum\, 111 West Cheves Street\, Florence\, SC 29501\, Florence\, SC\, 29501\, United States
CATEGORIES:Archaeology,Arkhaios,Film,Free Event,Kids Programs,Lectures & Forums
ATTACH;FMTTYPE=image/jpeg:https://www.flocomuseum.org/wp-content/uploads/2019/09/Maya-1000x500-1.jpg
END:VEVENT
BEGIN:VEVENT
DTSTART;TZID=America/New_York:20231012T170000
DTEND;TZID=America/New_York:20231012T190000
DTSTAMP:20260424T044436
CREATED:20190917T152015Z
LAST-MODIFIED:20231004T154239Z
UID:29773-1697130000-1697137200@www.flocomuseum.org
SUMMARY:Free Public Movie Screening – Arkhaios Film Festival
DESCRIPTION:[vc_row type=”in_container” full_screen_row_position=”middle” column_margin=”default” column_direction=”default” column_direction_tablet=”default” column_direction_phone=”default” scene_position=”center” text_color=”dark” text_align=”left” row_border_radius=”none” row_border_radius_applies=”bg” overflow=”visible” overlay_strength=”0.3″ gradient_direction=”left_to_right” shape_divider_position=”bottom” bg_image_animation=”none”][vc_column column_padding=”no-extra-padding” column_padding_tablet=”inherit” column_padding_phone=”inherit” column_padding_position=”all” column_element_direction_desktop=”default” column_element_spacing=”default” desktop_text_alignment=”default” tablet_text_alignment=”default” phone_text_alignment=”default” background_color_opacity=”1″ background_hover_color_opacity=”1″ column_backdrop_filter=”none” column_shadow=”none” column_border_radius=”none” column_link_target=”_self” column_position=”default” gradient_direction=”left_to_right” overlay_strength=”0.3″ width=”1/1″ tablet_width_inherit=”default” animation_type=”default” bg_image_animation=”none” border_type=”simple” column_border_width=”none” column_border_style=”solid”][vc_column_text]Join the Florence County Museum and the Arkhaios Cultural Heritage & Archaeology Film Festival for an evening dedicated to film\, archaeology and cultural heritage\, on Thursday\, October 12\, 5:00 to 7:00pm at the Florence County Museum in the Multipurpose Room. \nThis free event will include a reception\, lecture and screening of a film The Champollion Brothers: The Egypt Code Breakers. \nThe Arkhaios Film Festival is sponsored by the SC Institute of Archaeology and Anthropology (SCIAA) and the Department of Anthropology of the University of South Carolina\, and the Welsch Tract Historic Properties Association\, in South Carolina\, and in Pennsylvania by the Department of Anthropology of the University of Pittsburgh\, and the Allegheny Chapter #1 of the Society for Pennsylvania Archaeology. \nAbout the film\n“The Champollion Brothers: The Egypt Code Breakers”\, a 2022\, 52’ film by Director Jacques Plaisant. \nTwo hundred years ago\, Jean-Francois Champollion deciphered the Egyptian hieroglyphs for the first time\, thus solving one of the greatest enigmas in the History of Humanity.  \nWhat little is known is that behind this genius hides a man in the shadows: Jacques-Joseph\, the eldest brother of the Champollion family.   \nThe recent study of family archives shed new light on this intellectual adventure that was deciphering.  \nIt is in the light of this latest scientific knowledge and the latest finds in the epistolary exchanges of Jean-Francois Champollion with his brother that the life of this genius is re-read. \nAbout the Director\nJacques Plaisant is known for La nature vue du ciel (2013)\, Rituals of the World (2018) and Dans le secret des hiéroglyphes : Les frères Champollion (2022).[/vc_column_text][/vc_column][/vc_row][vc_row type=”in_container” full_screen_row_position=”middle” column_margin=”default” column_direction=”default” column_direction_tablet=”default” column_direction_phone=”default” scene_position=”center” text_color=”dark” text_align=”left” row_border_radius=”none” row_border_radius_applies=”bg” overflow=”visible” overlay_strength=”0.3″ gradient_direction=”left_to_right” shape_divider_position=”bottom” bg_image_animation=”none” gradient_type=”default” shape_type=””][vc_column column_padding=”no-extra-padding” column_padding_tablet=”inherit” column_padding_phone=”inherit” column_padding_position=”all” column_element_direction_desktop=”default” column_element_spacing=”default” desktop_text_alignment=”default” tablet_text_alignment=”default” phone_text_alignment=”default” background_color_opacity=”1″ background_hover_color_opacity=”1″ column_backdrop_filter=”none” column_shadow=”none” column_border_radius=”none” column_link_target=”_self” column_position=”default” gradient_direction=”left_to_right” overlay_strength=”0.3″ width=”1/1″ tablet_width_inherit=”default” animation_type=”default” bg_image_animation=”none” border_type=”simple” column_border_width=”none” column_border_style=”solid”][vc_raw_html]JTNDY2VudGVyJTNFJTVCYnV0dG9uJTIwY29sb3IlM0QlMjJhY2NlbnQtY29sb3IlMjIlMjBob3Zlcl90ZXh0X2NvbG9yX292ZXJyaWRlJTNEJTIyJTIzZmZmJTIyJTIwc2l6ZSUzRCUyMm1lZGl1bSUyMiUyMHVybCUzRCUyMmh0dHBzJTNBJTJGJTJGd3d3LmV2ZW50YnJpdGUuY29tJTJGZSUyRmFya2hhaW9zLWZpbG0tZmVzdGl2YWwtY2hhbXBvbGxpb24tYnJvdGhlcnMtdGhlLWVneXB0LWNvZGUtYnJlYWtlcnMtdGlja2V0cy03MzA0NDIxNzExOTclMjIlMjBvcGVuX25ld190YWIlM0QlMjJ0cnVlJTIyJTIwdGV4dCUzRCUyMkdldCUyMHlvdXIlMjBmcmVlJTIwdGlja2V0JTI4cyUyOSUyMiUyMGNvbG9yX292ZXJyaWRlJTNEJTIyJTIzMzAzMDMwJTIyJTVEJTNDJTJGY2VudGVyJTNF[/vc_raw_html][/vc_column][/vc_row]
URL:https://www.flocomuseum.org/event/2023-10-12-free-public-movie-screening/
LOCATION:Florence County Museum\, 111 West Cheves Street\, Florence\, SC 29501\, Florence\, SC\, 29501\, United States
CATEGORIES:Archaeology,Arkhaios,Film,Free Event,Kids Programs,Lectures & Forums
ATTACH;FMTTYPE=image/jpeg:https://www.flocomuseum.org/wp-content/uploads/2023/10/Champollion-Brothers-Egypt-Code-Breakers.jpg
END:VEVENT
END:VCALENDAR