BEGIN:VCALENDAR
VERSION:2.0
PRODID:-//Florence County Museum - ECPv6.15.20//NONSGML v1.0//EN
CALSCALE:GREGORIAN
METHOD:PUBLISH
X-ORIGINAL-URL:https://www.flocomuseum.org
X-WR-CALDESC:Events for Florence County Museum
REFRESH-INTERVAL;VALUE=DURATION:PT1H
X-Robots-Tag:noindex
X-PUBLISHED-TTL:PT1H
BEGIN:VTIMEZONE
TZID:America/New_York
BEGIN:DAYLIGHT
TZOFFSETFROM:-0500
TZOFFSETTO:-0400
TZNAME:EDT
DTSTART:20250309T070000
END:DAYLIGHT
BEGIN:STANDARD
TZOFFSETFROM:-0400
TZOFFSETTO:-0500
TZNAME:EST
DTSTART:20251102T060000
END:STANDARD
BEGIN:DAYLIGHT
TZOFFSETFROM:-0500
TZOFFSETTO:-0400
TZNAME:EDT
DTSTART:20260308T070000
END:DAYLIGHT
BEGIN:STANDARD
TZOFFSETFROM:-0400
TZOFFSETTO:-0500
TZNAME:EST
DTSTART:20261101T060000
END:STANDARD
BEGIN:DAYLIGHT
TZOFFSETFROM:-0500
TZOFFSETTO:-0400
TZNAME:EDT
DTSTART:20270314T070000
END:DAYLIGHT
BEGIN:STANDARD
TZOFFSETFROM:-0400
TZOFFSETTO:-0500
TZNAME:EST
DTSTART:20271107T060000
END:STANDARD
END:VTIMEZONE
BEGIN:VEVENT
DTSTART;TZID=America/New_York:20260716T170000
DTEND;TZID=America/New_York:20260716T183000
DTSTAMP:20260421T134106
CREATED:20260224T200611Z
LAST-MODIFIED:20260224T202502Z
UID:33756-1784221200-1784226600@www.flocomuseum.org
SUMMARY:Art After Hours - Intro To Batik
DESCRIPTION:[vc_row type=”in_container” full_screen_row_position=”middle” column_margin=”default” equal_height=”yes” content_placement=”middle” column_direction=”default” column_direction_tablet=”default” column_direction_phone=”default” scene_position=”center” text_color=”dark” text_align=”left” row_border_radius=”none” row_border_radius_applies=”bg” overflow=”visible” overlay_strength=”0.3″ gradient_direction=”left_to_right” shape_divider_position=”bottom” bg_image_animation=”none” gradient_type=”default” shape_type=””][vc_column column_padding=”no-extra-padding” column_padding_tablet=”inherit” column_padding_phone=”inherit” column_padding_position=”all” column_element_direction_desktop=”default” column_element_spacing=”default” desktop_text_alignment=”default” tablet_text_alignment=”default” phone_text_alignment=”default” background_color_opacity=”1″ background_hover_color_opacity=”1″ column_backdrop_filter=”none” column_shadow=”none” column_border_radius=”none” column_link_target=”_self” column_position=”default” gradient_direction=”left_to_right” overlay_strength=”0.3″ width=”1/2″ tablet_width_inherit=”default” animation_type=”default” bg_image_animation=”none” border_type=”simple” column_border_width=”none” column_border_style=”solid” column_padding_type=”default” gradient_type=”default”][vc_column_text css=”” text_direction=”default”]\n\nExplore a fun\, simplified batik technique on paper to create bold\, colorful designs with striking contrast through a resist process. Inspired by traditional batik methods but adapted for Art After Hours\, this class is perfect for adults of all skill levels and those wishing to learn more about the process behind the works on display in our latest exhibit\, Revelations: The Art of Leo Twiggs. Relax\, experiment\, and leave with a finished piece of art.\n\n[/vc_column_text][divider line_type=”No Line”][nectar_btn size=”large” open_new_tab=”true” button_style=”regular” button_color_2=”Accent-Color” icon_family=”none” text=”Register Here” url=”https://www.eventbrite.com/e/art-after-hours-an-intro-to-batik-tickets-1983897745562″][/vc_column][vc_column column_padding=”no-extra-padding” column_padding_tablet=”inherit” column_padding_phone=”inherit” column_padding_position=”all” column_element_direction_desktop=”default” column_element_spacing=”default” desktop_text_alignment=”default” tablet_text_alignment=”default” phone_text_alignment=”default” background_color_opacity=”1″ background_hover_color_opacity=”1″ column_backdrop_filter=”none” column_shadow=”none” column_border_radius=”none” column_link_target=”_self” column_position=”default” gradient_direction=”left_to_right” overlay_strength=”0.3″ width=”1/2″ tablet_width_inherit=”default” animation_type=”default” bg_image_animation=”none” border_type=”simple” column_border_width=”none” column_border_style=”solid”][vc_column_text css=”” text_direction=”default”]Date:\nJuly 16\, 2026\, at 5:00 pm. \nClass Size:\nAdults. Limited to 12 participants. \nTickets go on sale to the general public on May 18\, 2026\, at 10am.\nMembers get priority ticket access the week before starting May 11\, 2026. Only 4 early tickets are available. \nPrice:\n$10/person for Not Yet Members.\nFree for Museum Members.[/vc_column_text][/vc_column][/vc_row]
URL:https://www.flocomuseum.org/event/art-after-hours-batik-071526/
LOCATION:Florence County Museum\, 111 West Cheves Street\, Florence\, SC 29501\, Florence\, SC\, 29501\, United States
CATEGORIES:Adult Programs,Art After Hours
ATTACH;FMTTYPE=image/jpeg:https://www.flocomuseum.org/wp-content/uploads/2026/02/AAH-Batik-July-16.jpg
ORGANIZER;CN="Uschi Jeffcoat%2C Curator of Education":MAILTO:ujeffcoat@florenceco.org
END:VEVENT
END:VCALENDAR