BEGIN:VCALENDAR
VERSION:2.0
PRODID:-//Florence County Museum - ECPv6.15.20//NONSGML v1.0//EN
CALSCALE:GREGORIAN
METHOD:PUBLISH
X-WR-CALNAME:Florence County Museum
X-ORIGINAL-URL:https://www.flocomuseum.org
X-WR-CALDESC:Events for Florence County Museum
REFRESH-INTERVAL;VALUE=DURATION:PT1H
X-Robots-Tag:noindex
X-PUBLISHED-TTL:PT1H
BEGIN:VTIMEZONE
TZID:America/New_York
BEGIN:DAYLIGHT
TZOFFSETFROM:-0500
TZOFFSETTO:-0400
TZNAME:EDT
DTSTART:20230312T070000
END:DAYLIGHT
BEGIN:STANDARD
TZOFFSETFROM:-0400
TZOFFSETTO:-0500
TZNAME:EST
DTSTART:20231105T060000
END:STANDARD
BEGIN:DAYLIGHT
TZOFFSETFROM:-0500
TZOFFSETTO:-0400
TZNAME:EDT
DTSTART:20240310T070000
END:DAYLIGHT
BEGIN:STANDARD
TZOFFSETFROM:-0400
TZOFFSETTO:-0500
TZNAME:EST
DTSTART:20241103T060000
END:STANDARD
BEGIN:DAYLIGHT
TZOFFSETFROM:-0500
TZOFFSETTO:-0400
TZNAME:EDT
DTSTART:20250309T070000
END:DAYLIGHT
BEGIN:STANDARD
TZOFFSETFROM:-0400
TZOFFSETTO:-0500
TZNAME:EST
DTSTART:20251102T060000
END:STANDARD
END:VTIMEZONE
BEGIN:VEVENT
DTSTART;TZID=America/New_York:20240321T173000
DTEND;TZID=America/New_York:20240321T183000
DTSTAMP:20260424T174534
CREATED:20230510T185454Z
LAST-MODIFIED:20240304T172916Z
UID:30086-1711042200-1711045800@www.flocomuseum.org
SUMMARY:Art Afterhours - Experimental Letterpress
DESCRIPTION:[vc_row type=”in_container” full_screen_row_position=”middle” column_margin=”default” column_direction=”default” column_direction_tablet=”default” column_direction_phone=”default” scene_position=”center” text_color=”dark” text_align=”left” row_border_radius=”none” row_border_radius_applies=”bg” overflow=”visible” overlay_strength=”0.3″ gradient_direction=”left_to_right” shape_divider_position=”bottom” bg_image_animation=”none” gradient_type=”default” shape_type=””][vc_column column_padding=”no-extra-padding” column_padding_tablet=”inherit” column_padding_phone=”inherit” column_padding_position=”all” column_element_direction_desktop=”default” column_element_spacing=”default” desktop_text_alignment=”default” tablet_text_alignment=”default” phone_text_alignment=”default” background_color_opacity=”1″ background_hover_color_opacity=”1″ column_backdrop_filter=”none” column_shadow=”none” column_border_radius=”none” column_link_target=”_self” column_position=”default” gradient_direction=”left_to_right” overlay_strength=”0.3″ width=”1/1″ tablet_width_inherit=”default” animation_type=”default” bg_image_animation=”none” border_type=”simple” column_border_width=”none” column_border_style=”solid”][vc_column_text]Join Professor of Graphic Design\, Charles Jeffcoat for an introduction to letterpress. Participants will work with nontraditional materials combined with movable type to create printed pieces. \nProfessor Jeffcoat teaches design at Francis Marion University and maintains a freelance design business. He has worked for many clients and organizations including St Jude Children’s Research Hospital\, and the National Civil Rights Museum. His work has been recognized by the American Institute of Graphic Arts (AIGA) and the American Advertising Federation. \nClass Size: 12[/vc_column_text][vc_raw_html]JTNDYnIlMjAlMkYlM0UlMEElNUJidXR0b24lMjBjb2xvciUzRCUyMmFjY2VudC1jb2xvciUyMiUyMGhvdmVyX3RleHRfY29sb3Jfb3ZlcnJpZGUlM0QlMjIlMjNmZmYlMjIlMjBzaXplJTNEJTIybWVkaXVtJTIyJTIwdXJsJTNEJTIyaHR0cHMlM0ElMkYlMkZ3d3cuZXZlbnRicml0ZS5jb20lMkZlJTJGYXJ0LWFmdGVyaG91cnMtZXhwZXJpbWVudGFsLWxldHRlcnByZXNzLXRpY2tldHMtODU2MjQwNDc3MzE3JTIyJTIwdGV4dCUzRCUyMlByZXJlZ2lzdGVyJTIwbm93JTIyJTIwY29sb3Jfb3ZlcnJpZGUlM0QlMjIlMjIlNUQ=[/vc_raw_html][/vc_column][/vc_row]
URL:https://www.flocomuseum.org/event/art-after-hours-experimental-letterpress/
LOCATION:Florence County Museum\, 111 West Cheves Street\, Florence\, SC 29501\, Florence\, SC\, 29501\, United States
CATEGORIES:Adult Programs,Art After Hours,Kids Programs
ATTACH;FMTTYPE=image/jpeg:https://www.flocomuseum.org/wp-content/uploads/2023/05/letterpress-ready.jpg
ORGANIZER;CN="Uschi Jeffcoat%2C Curator of Education":MAILTO:ujeffcoat@florenceco.org
END:VEVENT
END:VCALENDAR