BEGIN:VCALENDAR
VERSION:2.0
PRODID:-//Florence County Museum - ECPv6.15.20//NONSGML v1.0//EN
CALSCALE:GREGORIAN
METHOD:PUBLISH
X-ORIGINAL-URL:https://www.flocomuseum.org
X-WR-CALDESC:Events for Florence County Museum
REFRESH-INTERVAL;VALUE=DURATION:PT1H
X-Robots-Tag:noindex
X-PUBLISHED-TTL:PT1H
BEGIN:VTIMEZONE
TZID:America/New_York
BEGIN:DAYLIGHT
TZOFFSETFROM:-0500
TZOFFSETTO:-0400
TZNAME:EDT
DTSTART:20230312T070000
END:DAYLIGHT
BEGIN:STANDARD
TZOFFSETFROM:-0400
TZOFFSETTO:-0500
TZNAME:EST
DTSTART:20231105T060000
END:STANDARD
BEGIN:DAYLIGHT
TZOFFSETFROM:-0500
TZOFFSETTO:-0400
TZNAME:EDT
DTSTART:20240310T070000
END:DAYLIGHT
BEGIN:STANDARD
TZOFFSETFROM:-0400
TZOFFSETTO:-0500
TZNAME:EST
DTSTART:20241103T060000
END:STANDARD
BEGIN:DAYLIGHT
TZOFFSETFROM:-0500
TZOFFSETTO:-0400
TZNAME:EDT
DTSTART:20250309T070000
END:DAYLIGHT
BEGIN:STANDARD
TZOFFSETFROM:-0400
TZOFFSETTO:-0500
TZNAME:EST
DTSTART:20251102T060000
END:STANDARD
END:VTIMEZONE
BEGIN:VEVENT
DTSTART;TZID=America/New_York:20240201T170000
DTEND;TZID=America/New_York:20240201T183000
DTSTAMP:20260424T190732
CREATED:20230510T185454Z
LAST-MODIFIED:20231214T195452Z
UID:30364-1706806800-1706812200@www.flocomuseum.org
SUMMARY:Intro to Acrylic Painting
DESCRIPTION:[vc_row type=”in_container” full_screen_row_position=”middle” column_margin=”default” column_direction=”default” column_direction_tablet=”default” column_direction_phone=”default” scene_position=”center” text_color=”dark” text_align=”left” row_border_radius=”none” row_border_radius_applies=”bg” overflow=”visible” overlay_strength=”0.3″ gradient_direction=”left_to_right” shape_divider_position=”bottom” bg_image_animation=”none”][vc_column column_padding=”no-extra-padding” column_padding_tablet=”inherit” column_padding_phone=”inherit” column_padding_position=”all” column_element_direction_desktop=”default” column_element_spacing=”default” desktop_text_alignment=”default” tablet_text_alignment=”default” phone_text_alignment=”default” background_color_opacity=”1″ background_hover_color_opacity=”1″ column_backdrop_filter=”none” column_shadow=”none” column_border_radius=”none” column_link_target=”_self” column_position=”default” gradient_direction=”left_to_right” overlay_strength=”0.3″ width=”1/1″ tablet_width_inherit=”default” animation_type=”default” bg_image_animation=”none” border_type=”simple” column_border_width=”none” column_border_style=”solid”][vc_column_text]Join us for an Introduction to Acrylic Painting class at the Florence County Museum. Whether you are a beginner or looking to sharpen your skills\, this in-person class is designed for you. Through presentations\, demonstrations and painting activities\, Assistant Professor of Fine Arts\, Brittany Gilbert will guide you through materials and processes in a relaxed and supportive environment. \nAges 16 and up\nLimited to 15 students\nAll materials included\n$200 per person\nMember discounts apply \nClass dates (5:00 to 6:30pm):\nJanuary 11\nJanuary 18\nJanuary 25\nFebruary 1\nFebruary 8\nFebruary 15 \nRegister now[/vc_column_text][/vc_column][/vc_row]
URL:https://www.flocomuseum.org/event/intro-to-acrylic-2024-2-1/
LOCATION:Florence County Museum\, 111 West Cheves Street\, Florence\, SC 29501\, Florence\, SC\, 29501\, United States
CATEGORIES:Adult Programs,Kids Programs
ATTACH;FMTTYPE=image/jpeg:https://www.flocomuseum.org/wp-content/uploads/2023/05/Intro-to-Acrylic-Painting-IMG_0622-Calendar.jpg
ORGANIZER;CN="Uschi Jeffcoat%2C Curator of Education":MAILTO:ujeffcoat@florenceco.org
END:VEVENT
BEGIN:VEVENT
DTSTART;TZID=America/New_York:20240208T170000
DTEND;TZID=America/New_York:20240208T183000
DTSTAMP:20260424T190732
CREATED:20230510T185454Z
LAST-MODIFIED:20231214T195538Z
UID:30366-1707411600-1707417000@www.flocomuseum.org
SUMMARY:Intro to Acrylic Painting
DESCRIPTION:[vc_row type=”in_container” full_screen_row_position=”middle” column_margin=”default” column_direction=”default” column_direction_tablet=”default” column_direction_phone=”default” scene_position=”center” text_color=”dark” text_align=”left” row_border_radius=”none” row_border_radius_applies=”bg” overflow=”visible” overlay_strength=”0.3″ gradient_direction=”left_to_right” shape_divider_position=”bottom” bg_image_animation=”none”][vc_column column_padding=”no-extra-padding” column_padding_tablet=”inherit” column_padding_phone=”inherit” column_padding_position=”all” column_element_direction_desktop=”default” column_element_spacing=”default” desktop_text_alignment=”default” tablet_text_alignment=”default” phone_text_alignment=”default” background_color_opacity=”1″ background_hover_color_opacity=”1″ column_backdrop_filter=”none” column_shadow=”none” column_border_radius=”none” column_link_target=”_self” column_position=”default” gradient_direction=”left_to_right” overlay_strength=”0.3″ width=”1/1″ tablet_width_inherit=”default” animation_type=”default” bg_image_animation=”none” border_type=”simple” column_border_width=”none” column_border_style=”solid”][vc_column_text]Join us for an Introduction to Acrylic Painting class at the Florence County Museum. Whether you are a beginner or looking to sharpen your skills\, this in-person class is designed for you. Through presentations\, demonstrations and painting activities\, Assistant Professor of Fine Arts\, Brittany Gilbert will guide you through materials and processes in a relaxed and supportive environment. \nAges 16 and up\nLimited to 15 students\nAll materials included\n$200 per person\nMember discounts apply \nClass dates (5:00 to 6:30pm):\nJanuary 11\nJanuary 18\nJanuary 25\nFebruary 1\nFebruary 8\nFebruary 15 \nRegister now[/vc_column_text][/vc_column][/vc_row]
URL:https://www.flocomuseum.org/event/intro-to-acrylic-2024-2-8/
LOCATION:Florence County Museum\, 111 West Cheves Street\, Florence\, SC 29501\, Florence\, SC\, 29501\, United States
CATEGORIES:Adult Programs,Kids Programs
ATTACH;FMTTYPE=image/jpeg:https://www.flocomuseum.org/wp-content/uploads/2023/05/Intro-to-Acrylic-Painting-IMG_0622-Calendar.jpg
ORGANIZER;CN="Uschi Jeffcoat%2C Curator of Education":MAILTO:ujeffcoat@florenceco.org
END:VEVENT
BEGIN:VEVENT
DTSTART;TZID=America/New_York:20240215T170000
DTEND;TZID=America/New_York:20240215T183000
DTSTAMP:20260424T190732
CREATED:20230510T185454Z
LAST-MODIFIED:20231214T195635Z
UID:30368-1708016400-1708021800@www.flocomuseum.org
SUMMARY:Intro to Acrylic Painting
DESCRIPTION:[vc_row type=”in_container” full_screen_row_position=”middle” column_margin=”default” column_direction=”default” column_direction_tablet=”default” column_direction_phone=”default” scene_position=”center” text_color=”dark” text_align=”left” row_border_radius=”none” row_border_radius_applies=”bg” overflow=”visible” overlay_strength=”0.3″ gradient_direction=”left_to_right” shape_divider_position=”bottom” bg_image_animation=”none”][vc_column column_padding=”no-extra-padding” column_padding_tablet=”inherit” column_padding_phone=”inherit” column_padding_position=”all” column_element_direction_desktop=”default” column_element_spacing=”default” desktop_text_alignment=”default” tablet_text_alignment=”default” phone_text_alignment=”default” background_color_opacity=”1″ background_hover_color_opacity=”1″ column_backdrop_filter=”none” column_shadow=”none” column_border_radius=”none” column_link_target=”_self” column_position=”default” gradient_direction=”left_to_right” overlay_strength=”0.3″ width=”1/1″ tablet_width_inherit=”default” animation_type=”default” bg_image_animation=”none” border_type=”simple” column_border_width=”none” column_border_style=”solid”][vc_column_text]Join us for an Introduction to Acrylic Painting class at the Florence County Museum. Whether you are a beginner or looking to sharpen your skills\, this in-person class is designed for you. Through presentations\, demonstrations and painting activities\, Assistant Professor of Fine Arts\, Brittany Gilbert will guide you through materials and processes in a relaxed and supportive environment. \nAges 16 and up\nLimited to 15 students\nAll materials included\n$200 per person\nMember discounts apply \nClass dates (5:00 to 6:30pm):\nJanuary 11\nJanuary 18\nJanuary 25\nFebruary 1\nFebruary 8\nFebruary 15 \nRegister now[/vc_column_text][/vc_column][/vc_row]
URL:https://www.flocomuseum.org/event/intro-to-acrylic-2024-2-15/
LOCATION:Florence County Museum\, 111 West Cheves Street\, Florence\, SC 29501\, Florence\, SC\, 29501\, United States
CATEGORIES:Adult Programs,Kids Programs
ATTACH;FMTTYPE=image/jpeg:https://www.flocomuseum.org/wp-content/uploads/2023/05/Intro-to-Acrylic-Painting-IMG_0622-Calendar.jpg
ORGANIZER;CN="Uschi Jeffcoat%2C Curator of Education":MAILTO:ujeffcoat@florenceco.org
END:VEVENT
END:VCALENDAR