BEGIN:VCALENDAR
VERSION:2.0
PRODID:-//Florence County Museum - ECPv6.15.20//NONSGML v1.0//EN
CALSCALE:GREGORIAN
METHOD:PUBLISH
X-ORIGINAL-URL:https://www.flocomuseum.org
X-WR-CALDESC:Events for Florence County Museum
REFRESH-INTERVAL;VALUE=DURATION:PT1H
X-Robots-Tag:noindex
X-PUBLISHED-TTL:PT1H
BEGIN:VTIMEZONE
TZID:America/New_York
BEGIN:DAYLIGHT
TZOFFSETFROM:-0500
TZOFFSETTO:-0400
TZNAME:EDT
DTSTART:20230312T070000
END:DAYLIGHT
BEGIN:STANDARD
TZOFFSETFROM:-0400
TZOFFSETTO:-0500
TZNAME:EST
DTSTART:20231105T060000
END:STANDARD
BEGIN:DAYLIGHT
TZOFFSETFROM:-0500
TZOFFSETTO:-0400
TZNAME:EDT
DTSTART:20240310T070000
END:DAYLIGHT
BEGIN:STANDARD
TZOFFSETFROM:-0400
TZOFFSETTO:-0500
TZNAME:EST
DTSTART:20241103T060000
END:STANDARD
BEGIN:DAYLIGHT
TZOFFSETFROM:-0500
TZOFFSETTO:-0400
TZNAME:EDT
DTSTART:20250309T070000
END:DAYLIGHT
BEGIN:STANDARD
TZOFFSETFROM:-0400
TZOFFSETTO:-0500
TZNAME:EST
DTSTART:20251102T060000
END:STANDARD
END:VTIMEZONE
BEGIN:VEVENT
DTSTART;TZID=America/New_York:20240111T170000
DTEND;TZID=America/New_York:20240111T183000
DTSTAMP:20260424T201855
CREATED:20230510T185454Z
LAST-MODIFIED:20231214T195105Z
UID:30354-1704992400-1704997800@www.flocomuseum.org
SUMMARY:Intro to Acrylic Painting
DESCRIPTION:[vc_row type=”in_container” full_screen_row_position=”middle” column_margin=”default” column_direction=”default” column_direction_tablet=”default” column_direction_phone=”default” scene_position=”center” text_color=”dark” text_align=”left” row_border_radius=”none” row_border_radius_applies=”bg” overflow=”visible” overlay_strength=”0.3″ gradient_direction=”left_to_right” shape_divider_position=”bottom” bg_image_animation=”none”][vc_column column_padding=”no-extra-padding” column_padding_tablet=”inherit” column_padding_phone=”inherit” column_padding_position=”all” column_element_direction_desktop=”default” column_element_spacing=”default” desktop_text_alignment=”default” tablet_text_alignment=”default” phone_text_alignment=”default” background_color_opacity=”1″ background_hover_color_opacity=”1″ column_backdrop_filter=”none” column_shadow=”none” column_border_radius=”none” column_link_target=”_self” column_position=”default” gradient_direction=”left_to_right” overlay_strength=”0.3″ width=”1/1″ tablet_width_inherit=”default” animation_type=”default” bg_image_animation=”none” border_type=”simple” column_border_width=”none” column_border_style=”solid”][vc_column_text]Join us for an Introduction to Acrylic Painting class at the Florence County Museum. Whether you are a beginner or looking to sharpen your skills\, this in-person class is designed for you. Through presentations\, demonstrations and painting activities\, Assistant Professor of Fine Arts\, Brittany Gilbert will guide you through materials and processes in a relaxed and supportive environment. \nAges 16 and up\nLimited to 15 students\nAll materials included\n$200 per person\nMember discounts apply \nClass dates (5:00 to 6:30pm):\nJanuary 11\nJanuary 18\nJanuary 25\nFebruary 1\nFebruary 8\nFebruary 15 \nRegister now[/vc_column_text][/vc_column][/vc_row]
URL:https://www.flocomuseum.org/event/intro-to-acrylic-2024-1-11/
LOCATION:Florence County Museum\, 111 West Cheves Street\, Florence\, SC 29501\, Florence\, SC\, 29501\, United States
CATEGORIES:Adult Programs,Kids Programs
ATTACH;FMTTYPE=image/jpeg:https://www.flocomuseum.org/wp-content/uploads/2023/05/Intro-to-Acrylic-Painting-IMG_0622-Calendar.jpg
ORGANIZER;CN="Uschi Jeffcoat%2C Curator of Education":MAILTO:ujeffcoat@florenceco.org
END:VEVENT
BEGIN:VEVENT
DTSTART;TZID=America/New_York:20240118T170000
DTEND;TZID=America/New_York:20240118T183000
DTSTAMP:20260424T201855
CREATED:20230510T185454Z
LAST-MODIFIED:20231214T195238Z
UID:30360-1705597200-1705602600@www.flocomuseum.org
SUMMARY:Intro to Acrylic Painting
DESCRIPTION:[vc_row type=”in_container” full_screen_row_position=”middle” column_margin=”default” column_direction=”default” column_direction_tablet=”default” column_direction_phone=”default” scene_position=”center” text_color=”dark” text_align=”left” row_border_radius=”none” row_border_radius_applies=”bg” overflow=”visible” overlay_strength=”0.3″ gradient_direction=”left_to_right” shape_divider_position=”bottom” bg_image_animation=”none”][vc_column column_padding=”no-extra-padding” column_padding_tablet=”inherit” column_padding_phone=”inherit” column_padding_position=”all” column_element_direction_desktop=”default” column_element_spacing=”default” desktop_text_alignment=”default” tablet_text_alignment=”default” phone_text_alignment=”default” background_color_opacity=”1″ background_hover_color_opacity=”1″ column_backdrop_filter=”none” column_shadow=”none” column_border_radius=”none” column_link_target=”_self” column_position=”default” gradient_direction=”left_to_right” overlay_strength=”0.3″ width=”1/1″ tablet_width_inherit=”default” animation_type=”default” bg_image_animation=”none” border_type=”simple” column_border_width=”none” column_border_style=”solid”][vc_column_text]Join us for an Introduction to Acrylic Painting class at the Florence County Museum. Whether you are a beginner or looking to sharpen your skills\, this in-person class is designed for you. Through presentations\, demonstrations and painting activities\, Assistant Professor of Fine Arts\, Brittany Gilbert will guide you through materials and processes in a relaxed and supportive environment. \nAges 16 and up\nLimited to 15 students\nAll materials included\n$200 per person\nMember discounts apply \nClass dates (5:00 to 6:30pm):\nJanuary 11\nJanuary 18\nJanuary 25\nFebruary 1\nFebruary 8\nFebruary 15 \nRegister now[/vc_column_text][/vc_column][/vc_row]
URL:https://www.flocomuseum.org/event/intro-to-acrylic-2024-1-18/
LOCATION:Florence County Museum\, 111 West Cheves Street\, Florence\, SC 29501\, Florence\, SC\, 29501\, United States
CATEGORIES:Adult Programs,Kids Programs
ATTACH;FMTTYPE=image/jpeg:https://www.flocomuseum.org/wp-content/uploads/2023/05/Intro-to-Acrylic-Painting-IMG_0622-Calendar.jpg
ORGANIZER;CN="Uschi Jeffcoat%2C Curator of Education":MAILTO:ujeffcoat@florenceco.org
END:VEVENT
BEGIN:VEVENT
DTSTART;TZID=America/New_York:20240118T173000
DTEND;TZID=America/New_York:20240118T183000
DTSTAMP:20260424T201855
CREATED:20230510T185454Z
LAST-MODIFIED:20231214T175457Z
UID:30069-1705599000-1705602600@www.flocomuseum.org
SUMMARY:Art Afterhours - Suminagashi
DESCRIPTION:[vc_row type=”in_container” full_screen_row_position=”middle” column_margin=”default” column_direction=”default” column_direction_tablet=”default” column_direction_phone=”default” scene_position=”center” text_color=”dark” text_align=”left” row_border_radius=”none” row_border_radius_applies=”bg” overflow=”visible” overlay_strength=”0.3″ gradient_direction=”left_to_right” shape_divider_position=”bottom” bg_image_animation=”none” gradient_type=”default” shape_type=””][vc_column column_padding=”no-extra-padding” column_padding_tablet=”inherit” column_padding_phone=”inherit” column_padding_position=”all” column_element_direction_desktop=”default” column_element_spacing=”default” desktop_text_alignment=”default” tablet_text_alignment=”default” phone_text_alignment=”default” background_color_opacity=”1″ background_hover_color_opacity=”1″ column_backdrop_filter=”none” column_shadow=”none” column_border_radius=”none” column_link_target=”_self” column_position=”default” gradient_direction=”left_to_right” overlay_strength=”0.3″ width=”1/1″ tablet_width_inherit=”default” animation_type=”default” bg_image_animation=”none” border_type=”simple” column_border_width=”none” column_border_style=”solid”][vc_column_text]Suminagashi\, also called marbling\, uses ink through suspension. Marbling has been used for centuries and many functional uses are apparent today. Participants will experiment with marbling paper and create a torn paper composition. \nVictoria Wade is an artist by nature and a mother of two regularly practicing art. Victoria has taught art in South Carolina for seven years and loves sharing a deeper understanding of an artistic medium with others. \nClass Size:16 \nPreregister now[/vc_column_text][/vc_column][/vc_row]
URL:https://www.flocomuseum.org/event/art-after-hours-2024-01-18/
LOCATION:Florence County Museum\, 111 West Cheves Street\, Florence\, SC 29501\, Florence\, SC\, 29501\, United States
CATEGORIES:Adult Programs,Art After Hours,Kids Programs
ATTACH;FMTTYPE=image/jpeg:https://www.flocomuseum.org/wp-content/uploads/2023/12/Art-Afterhours-2024-1-Suminagashi-Paper-Marbling-Calendar.jpg
ORGANIZER;CN="Uschi Jeffcoat%2C Curator of Education":MAILTO:ujeffcoat@florenceco.org
END:VEVENT
BEGIN:VEVENT
DTSTART;TZID=America/New_York:20240125T170000
DTEND;TZID=America/New_York:20240125T183000
DTSTAMP:20260424T201855
CREATED:20230510T185454Z
LAST-MODIFIED:20231214T195333Z
UID:30362-1706202000-1706207400@www.flocomuseum.org
SUMMARY:Intro to Acrylic Painting
DESCRIPTION:[vc_row type=”in_container” full_screen_row_position=”middle” column_margin=”default” column_direction=”default” column_direction_tablet=”default” column_direction_phone=”default” scene_position=”center” text_color=”dark” text_align=”left” row_border_radius=”none” row_border_radius_applies=”bg” overflow=”visible” overlay_strength=”0.3″ gradient_direction=”left_to_right” shape_divider_position=”bottom” bg_image_animation=”none”][vc_column column_padding=”no-extra-padding” column_padding_tablet=”inherit” column_padding_phone=”inherit” column_padding_position=”all” column_element_direction_desktop=”default” column_element_spacing=”default” desktop_text_alignment=”default” tablet_text_alignment=”default” phone_text_alignment=”default” background_color_opacity=”1″ background_hover_color_opacity=”1″ column_backdrop_filter=”none” column_shadow=”none” column_border_radius=”none” column_link_target=”_self” column_position=”default” gradient_direction=”left_to_right” overlay_strength=”0.3″ width=”1/1″ tablet_width_inherit=”default” animation_type=”default” bg_image_animation=”none” border_type=”simple” column_border_width=”none” column_border_style=”solid”][vc_column_text]Join us for an Introduction to Acrylic Painting class at the Florence County Museum. Whether you are a beginner or looking to sharpen your skills\, this in-person class is designed for you. Through presentations\, demonstrations and painting activities\, Assistant Professor of Fine Arts\, Brittany Gilbert will guide you through materials and processes in a relaxed and supportive environment. \nAges 16 and up\nLimited to 15 students\nAll materials included\n$200 per person\nMember discounts apply \nClass dates (5:00 to 6:30pm):\nJanuary 11\nJanuary 18\nJanuary 25\nFebruary 1\nFebruary 8\nFebruary 15 \nRegister now[/vc_column_text][/vc_column][/vc_row]
URL:https://www.flocomuseum.org/event/intro-to-acrylic-2024-1-25/
LOCATION:Florence County Museum\, 111 West Cheves Street\, Florence\, SC 29501\, Florence\, SC\, 29501\, United States
CATEGORIES:Adult Programs,Kids Programs
ATTACH;FMTTYPE=image/jpeg:https://www.flocomuseum.org/wp-content/uploads/2023/05/Intro-to-Acrylic-Painting-IMG_0622-Calendar.jpg
ORGANIZER;CN="Uschi Jeffcoat%2C Curator of Education":MAILTO:ujeffcoat@florenceco.org
END:VEVENT
BEGIN:VEVENT
DTSTART;TZID=America/New_York:20240127T100000
DTEND;TZID=America/New_York:20240127T160000
DTSTAMP:20260424T201855
CREATED:20230510T185454Z
LAST-MODIFIED:20240105T182131Z
UID:30385-1706349600-1706371200@www.flocomuseum.org
SUMMARY:After Hutty: Printmaking Workshop
DESCRIPTION:[vc_row type=”in_container” full_screen_row_position=”middle” column_margin=”default” column_direction=”default” column_direction_tablet=”default” column_direction_phone=”default” scene_position=”center” text_color=”dark” text_align=”left” row_border_radius=”none” row_border_radius_applies=”bg” overflow=”visible” overlay_strength=”0.3″ gradient_direction=”left_to_right” shape_divider_position=”bottom” bg_image_animation=”none”][vc_column column_padding=”no-extra-padding” column_padding_tablet=”inherit” column_padding_phone=”inherit” column_padding_position=”all” column_element_direction_desktop=”default” column_element_spacing=”default” desktop_text_alignment=”default” tablet_text_alignment=”default” phone_text_alignment=”default” background_color_opacity=”1″ background_hover_color_opacity=”1″ column_backdrop_filter=”none” column_shadow=”none” column_border_radius=”none” column_link_target=”_self” column_position=”default” gradient_direction=”left_to_right” overlay_strength=”0.3″ width=”1/1″ tablet_width_inherit=”default” animation_type=”default” bg_image_animation=”none” border_type=”simple” column_border_width=”none” column_border_style=”solid”][vc_column_text]Join us at the Florence County Museum for a fun-filled day of printmaking. Inspired by artist Alfred Hutty’s tree drawings and prints displayed in the exhibition Hutty: The Art of Observation\, participants will create their very own drypoint etchings of trees. No experience is necessary. Assistant Professor of Fine Arts\, Brittany Gilbert will walk you through the process step-by-step from drawing with line\, to etching the plate and finally\, printing on our press! All supplies are provided by the museum and included in the workshop fee. \nAges 16 and up\nLimited to 10 students\n$85 per person\nMember discounts apply \nRegister now[/vc_column_text][/vc_column][/vc_row]
URL:https://www.flocomuseum.org/event/printmaking-workshop-2024-1-27/
LOCATION:Florence County Museum\, 111 West Cheves Street\, Florence\, SC 29501\, Florence\, SC\, 29501\, United States
CATEGORIES:Adult Programs,Kids Programs
ATTACH;FMTTYPE=image/jpeg:https://www.flocomuseum.org/wp-content/uploads/2023/12/After-Hutty-Printmaking-Workshop_FCM2661-Calendar.jpg
ORGANIZER;CN="Uschi Jeffcoat%2C Curator of Education":MAILTO:ujeffcoat@florenceco.org
END:VEVENT
END:VCALENDAR